Workbook

Sheet COMPLESSIVO - %
A1: RISULTATI QUESTIONARIO BENESSERE ORGANIZZATIVO ANNO 2020
B3: PER NULLA | C3: POCO | D3: ABBASTANZA | E3: DEL TUTTO | F3: NON RISPONDE
A4: 1. Ho ricevuto informazioni appropriate sui rischi connessi alla mia attività lavorativa e sulle relative misure di prevenzione e protezione, anche con riferimento all'emergenza epidemiologica Covid-19? | B4: 0.0069444444 | C4: 0.14583333 | D4: 0.375 | E4: 0.47222222 | F4: 0
A5: 2. Ho subito atti di mobbing (demansionamento, esclusione di autonomia decisionale, isolamento, estromissione dal flusso delle informazioni, ingiustificate disparità di trattamento, forme di controllo esasperato) | B5: 0.78472222 | C5: 0.14583333 | D5: 0.041666667 | E5: 0.027777778 | F5: 0
A6: 3. Sono soggetto/a a molestie sotto forma di parole o comportamenti che ledono la mia dignità e creano un clima negativo sul luogo di lavoro | B6: 0.84027778 | C6: 0.10416667 | D6: 0.041666667 | E6: 0.013888889 | F6: 0
A7: 4. Nell'ultimo anno la mia organizzazione ha promosso azioni a favore della conciliazione dei tempi di lavoro e dei tempi di vita, anche con riferimento all'emergenza epidemiologica Covid-19 | B7: 0.069444444 | C7: 0.1875 | D7: 0.50694444 | E7: 0.22916667 | F7: 0.0069444444
A8: 5. Sono trattato/a correttamente e con rispetto in relazione alla mia appartenenza sindacale e/o al mio orientamento politico | B8: 0.041666667 | C8: 0.0069444444 | D8: 0.1875 | E8: 0.74305556 | F8: 0.020833333
A9: 6. Sono trattato/a correttamente e con rispetto in relazione alla mia religione/etnia e/o razza | B9: 0.020833333 | C9: 0.0069444444 | D9: 0.11111111 | E9: 0.84027778 | F9: 0.020833333
A10: 7. La mia identità di genere costituisce un ostacolo alla mia valorizzazione sul lavoro | B10: 0.86111111 | C10: 0.055555556 | D10: 0.013888889 | E10: 0.041666667 | F10: 0.027777778
A11: 8. La mia età costituisce un ostacolo alla mia valorizzazione sul lavoro | B11: 0.80555556 | C11: 0.13194444 | D11: 0.020833333 | E11: 0.013888889 | F11: 0.027777778
A12: 9. I miei carichi di lavoro familiare costituiscono un ostacolo alla mia valorizzazione sul lavoro e alla mia crescita professionale | B12: 0.67361111 | C12: 0.25694444 | D12: 0.055555556 | E12: 0 | F12: 0.013888889
A13: 10. Ritengo che il carico di lavoro che mi è assegnato sia commisurato al mio orario di lavoro | B13: 0.13194444 | C13: 0.19444444 | D13: 0.41666667 | E13: 0.25694444 | F13: 0
A14: 11. Il mio Ente ha una programmazione delle ferie che mi permette di usufruirne entro i limiti di legge e secondo le mie necessità | B14: 0.26388889 | C14: 0.1875 | D14: 0.26388889 | E14: 0.28472222 | F14: 0
A15: 12. Nel mio Ente il percorso di sviluppo professionale di ciascuno è ben delineato e chiaro | B15: 0.36111111 | C15: 0.28472222 | D15: 0.25694444 | E15: 0.097222222 | F15: 0
... A29: 26. Ritengo sia importante poter valutare le capacità e i comportamenti del mio responsabile | B29: 0.048611111 | C29: 0.083333333 | D29: 0.42361111 | E29: 0.40972222 | F29: 0.034722222

Sheet COMPLESSIVO - VAL. ASSOLUTI
A1: RISULTATI QUESTIONARIO BENESSERE ORGANIZZATIVO ANNO 2020
B3: PER NULLA | C3: POCO | D3: ABBASTANZA | E3: DEL TUTTO | F3: NON RISPONDE
A4: 1. Ho ricevuto informazioni appropriate sui rischi connessi alla mia attività lavorativa e sulle relative misure di prevenzione e protezione, anche con riferimento all'emergenza epidemiologica Covid-19? | B4: 1 | C4: 21 | D4: 54 | E4: 68 | F4: 0 | G4: 144
A5: 2. Ho subito atti di mobbing (demansionamento, esclusione di autonomia decisionale, isolamento, estromissione dal flusso delle informazioni, ingiustificate disparità di trattamento, forme di controllo esasperato) | B5: 113 | C5: 21 | D5: 6 | E5: 4 | F5: 0 | G5: 144
A6: 3. Sono soggetto/a a molestie sotto forma di parole o comportamenti che ledono la mia dignità e creano un clima negativo sul luogo di lavoro | B6: 121 | C6: 15 | D6: 6 | E6: 2 | F6: 0 | G6: 144
A7: 4. Nell'ultimo anno la mia organizzazione ha promosso azioni a favore della conciliazione dei tempi di lavoro e dei tempi di vita, anche con riferimento all'emergenza epidemiologica Covid-19 | B7: 10 | C7: 27 | D7: 73 | E7: 33 | F7: 1 | G7: 144
A8: 5. Sono trattato/a correttamente e con rispetto in relazione alla mia appartenenza sindacale e/o al mio orientamento politico | B8: 6 | C8: 1 | D8: 27 | E8: 107 | F8: 3 | G8: 144
A9: 6. Sono trattato/a correttamente e con rispetto in relazione alla mia religione/etnia e/o razza | B9: 3 | C9: 1 | D9: 16 | E9: 121 | F9: 3 | G9: 144
A10: 7. La mia identità di genere costituisce un ostacolo alla mia valorizzazione sul lavoro | B10: 124 | C10: 8 | D10: 2 | E10: 6 | F10: 4 | G10: 144
A11: 8. La mia età costituisce un ostacolo alla mia valorizzazione sul lavoro | B11: 116 | C11: 19 | D11: 3 | E11: 2 | F11: 4 | G11: 144
A12: 9. I miei carichi di lavoro familiare costituiscono un ostacolo alla mia valorizzazione sul lavoro e alla mia crescita professionale | B12: 97 | C12: 37 | D12: 8 | E12: 0 | F12: 2 | G12: 144
A13: 10. Ritengo che il carico di lavoro che mi è assegnato sia commisurato al mio orario di lavoro | B13: 19 | C13: 28 | D13: 60 | E13: 37 | F13: 0 | G13: 144
A14: 11. Il mio Ente ha una programmazione delle ferie che mi permette di usufruirne entro i limiti di legge e secondo le mie necessità | B14: 38 | C14: 27 | D14: 38 | E14: 41 | F14: 0 | G14: 144
A15: 12. Nel mio Ente il percorso di sviluppo professionale di ciascuno è ben delineato e chiaro | B15: 52 | C15: 41 | D15: 37 | E15: 14 | F15: 0 | G15: 144
... A29: 26. Ritengo sia importante poter valutare le capacità e i comportamenti del mio responsabile | B29: 7 | C29: 12 | D29: 61 | E29: 59 | F29: 5 | G29: 144

Sheet Arsié (VAL.ASS.)
A1: RISULTATI QUESTIONARIO BENESSERE ORGANIZZATIVO ANNO 2020
I3: SOMMA
A4: COMUNE DI ARSIE'
A6: Quanto si trova in accordo con le seguenti affermazioni? (indichi una sola risposta per ciascuna domanda) | D6: PER NULLA | E6: POCO | F6: ABBASTANZA | G6: DEL TUTTO | H6: NR
D7: 0 | E7: 1 | F7: 2 | G7: 3
A8: Sicurezza e salute sul luogo di lavoro; pari opportunità
A9: 1. Ho ricevuto informazioni appropriate sui rischi connessi alla mia attività lavorativa e sulle relative misure di prevenzione e protezione, anche con riferimento all'emergenza epidemiologica Covid-19? | F9: =1+1+1+1+1+1 -> 6 | G9: =1+1+1+1+1 -> 5 | I9: =SUM(D9:H12) -> 11
A13: 2. Ho subito atti di mobbing (demansionamento, esclusione di autonomia decisionale, isolamento, estromissione dal flusso delle informazioni, ingiustificate disparità di trattamento, forme di controllo esasperato) | D13: =1+1+1+1+1+1+1+1+1 -> 9 | E13: =1+1 -> 2 | I13: =SUM(D13:H16) -> 11
A17: 3. Sono soggetto/a a molestie sotto forma di parole o comportamenti che ledono la mia dignità e creano un clima negativo sul luogo di lavoro | D17: =1+1+1+1+1+1+1+1+1+1+1 -> 11 | I17: =SUM(D17:H20) -> 11
A21: 4. Nell'ultimo anno la mia organizzazione ha promosso azioni a favore della conciliazione dei tempi di lavoro e dei tempi di vita, anche con riferimento all'emergenza epidemiologica Covid-19 | D21: =1+1 -> 2 | F21: =1+1+1+1+1+1+1 -> 7 | G21: =1+1 -> 2 | I21: =SUM(D21:H24) -> 11
A25: 5. Sono trattato/a correttamente e con rispetto in relazione alla mia appartenenza sindacale e/o al mio orientamento politico | F25: =1+1 -> 2 | G25: =1+1+1+1+1+1+1+1 -> 8 | H25: 1 | I25: =SUM(D25:H28) -> 11
A29: 6. Sono trattato/a correttamente e con rispetto in relazione alla mia religione/etnia e/o razza | F29: =1+1 -> 2 | G29: =1+1+1+1+1+1+1+1+1 -> 9 | I29: =SUM(D29:H32) -> 11
A33: 7. La mia identità di genere costituisce un ostacolo alla mia valorizzazione sul lavoro | D33: =1+1+1+1+1+1+1+1+1+1 -> 10 | H33: 1 | I33: =SUM(D33:H36) -> 11
A37: 8. La mia età costituisce un ostacolo alla mia valorizzazione sul lavoro | D37: =1+1+1+1+1+1+1+1+1 -> 9 | E37: =1 -> 1 | H37: 1 | I37: =SUM(D37:H40) -> 11
A41: 9. I miei carichi di lavoro familiare costituiscono un ostacolo alla mia valorizzazione sul lavoro e alla mia crescita professionale | D41: =1+1+1+1+1+1+1+1 -> 8 | E41: =1+1 -> 2 | F41: =1 -> 1 | I41: =SUM(D41:H44) -> 11
A45: Carichi di lavoro, carriera e sviluppo professionale, senso di appartenenza
A46: 10. Ritengo che il carico di lavoro che mi è assegnato sia commisurato al mio orario di lavoro | E46: =1+1+1 -> 3 | F46: =1+1+1+1+1+1+1 -> 7 | G46: =1 -> 1 | I46: =SUM(D46:H49) -> 11
A50: 11. Il mio Ente ha una programmazione delle ferie che mi permette di usufruirne entro i limiti di legge e secondo le mie necessità | E50: =1 -> 1 | F50: =1+1+1+1+1+1+1+1 -> 8 | G50: =1+1 -> 2 | I50: =SUM(D50:H53) -> 11
A54: 12. Nel mio Ente il percorso di sviluppo professionale di ciascuno è ben delineato e chiaro | E54: =1+1+1+1 -> 4 | F54: =1+1+1+1+1+1 -> 6 | H54: 1 | I54: =SUM(D54:H57) -> 11
A58: 13. Ritengo che le possibilità reali di fare carriera nel mio ente siano legate al merito | D58: =1+1 -> 2 | E58: =1+1+1+1+1 -> 5 | F58: =1+1+1+1 -> 4 | I58: =SUM(D58:H61) -> 11
A62: 14. Il ruolo da me attualmente svolto è adeguato al mio profilo professionale | D62: =1 -> 1 | E62: =1 -> 1 | F62: =1+1+1+1+1+1+1 -> 7 | G62: =1+1 -> 2 | I62: =SUM(D62:H65) -> 11
A66: 15. Ho le risorse e gli strumenti necessari per svolgere il mio lavoro | E66: =1 -> 1 | F66: =1+1+1+1+1+1+1+1 -> 8 | G66: =1+1 -> 2 | I66: =SUM(D66:H69) -> 11
A70: 16. Ho un adeguato livello di autonomia nello svolgimento del mio lavoro | F70: =1+1+1+1+1+1+1 -> 7 | G70: =1+1+1+1 -> 4 | I70: =SUM(D70:H73) -> 11
A74: 17. Nel mio gruppo di lavoro chi ha un'informazione la mette a disposizione di tutti | E74: =1 -> 1 | F74: =1+1+1+1+1 -> 5 | G74: =1+1+1+1+1 -> 5 | I74: =SUM(D74:H77) -> 11
A78: 18. La mia organizzazione investe sulle persone, anche attraverso un'adeguata attività di formazione | E78: =1+1+1+1 -> 4 | F78: =1+1+1+1+1+1+1 -> 7 | I78: =SUM(D78:H81) -> 11
A82: 19. Le regole di comportamento sono definite in modo chiaro | D82: =1 -> 1 | F82: =1+1+1+1+1+1+1+1 -> 8 | G82: =1+1 -> 2 | I82: =SUM(D82:H85) -> 11
A86: 20. Sono orgoglioso quando il mio Ente raggiunge un buon risultato | F86: =1+1+1+1 -> 4 | G86: =1+1+1+1+1+1+1 -> 7 | I86: =SUM(D86:H89) -> 11
A90: Grado di condivisione del sistema di valutazione
A91: 21. Ritengo di essere valutato/a sulla base di elementi importanti del mio lavoro | E91: =1 -> 1 | F91: =1+1+1+1+1+1+1+1+1+1 -> 10 | I91: =SUM(D91:H94) -> 11
A95: 22. Sono chiari gli obiettivi e i risultati attesi dal mio responsabile con riguardo al mio lavoro | E95: =1 -> 1 | F95: =1+1+1+1+1+1+1 -> 7 | G95: =1+1+1 -> 3 | I95: =SUM(D95:H98) -> 11
A99: 23. Sono correttamente informato/a sulla valutazione del mio lavoro | D99: =1 -> 1 | E99: =1+1 -> 2 | F99: =1+1+1+1+1+1+1+1 -> 8 | I99: =SUM(D99:H102) -> 11
A103: 24. Sono sufficientemente coinvolto/a nel definire gli obiettivi e i risultati attesi del mio lavoro | E103: =1+1+1 -> 3 | F103: =1+1+1+1+1+1+1 -> 7 | G103: =1 -> 1 | I103: =SUM(D103:H106) -> 11
A107: 25. Il sistema di misurazione e valutazione della performance mi è stato adeguatamente illustrato | D107: =1 -> 1 | E107: =1+1 -> 2 | F107: =1+1+1+1+1+1+1 -> 7 | G107: =1 -> 1 | I107: =SUM(D107:H110) -> 11
A111: 26. Ritengo sia importante poter valutare le capacità e i comportamenti del mio responsabile | E111: =1 -> 1 | F111: =1+1+1+1+1+1+1+1+1+1 -> 10 | I111: =SUM(D111:H114) -> 11

Sheet Arsié (%)
A1: RISULTATI QUESTIONARIO BENESSERE ORGANIZZATIVO ANNO 2020
A4: COMUNE DI ARSIE'
A6: Quanto si trova in accordo con le seguenti affermazioni? (indichi una sola risposta per ciascuna domanda) | D6: PER NULLA | E6: POCO | F6: ABBASTANZA | G6: DEL TUTTO | H6: NR
D7: 0 | E7: 1 | F7: 2 | G7: 3
A8: Sicurezza e salute sul luogo di lavoro; pari opportunità
A9: 1. Ho ricevuto informazioni appropriate sui rischi connessi alla mia attività lavorativa e sulle relative misure di prevenzione e protezione, anche con riferimento all'emergenza epidemiologica Covid-19? | D9: ='Arsié (VAL.ASS.)'!D9:D12/11 -> 0 | E9: ='Arsié (VAL.ASS.)'!E9:E12/11 -> 0 | F9: ='Arsié (VAL.ASS.)'!F9:F12/11 -> 0.54545455 | G9: ='Arsié (VAL.ASS.)'!G9:G12/11 -> 0.45454545 | H9: ='Arsié (VAL.ASS.)'!H9:H12/11 -> 0
A13: 2. Ho subito atti di mobbing (demansionamento, esclusione di autonomia decisionale, isolamento, estromissione dal flusso delle informazioni, ingiustificate disparità di trattamento, forme di controllo esasperato) | D13: ='Arsié (VAL.ASS.)'!D13:D16/11 -> 0.81818182 | E13: ='Arsié (VAL.ASS.)'!E13:E16/11 -> 0.18181818 | F13: ='Arsié (VAL.ASS.)'!F13:F16/11 -> 0 | G13: ='Arsié (VAL.ASS.)'!G13:G16/11 -> 0 | H13: ='Arsié (VAL.ASS.)'!H13:H16/11 -> 0
A17: 3. Sono soggetto/a a molestie sotto forma di parole o comportamenti che ledono la mia dignità e creano un clima negativo sul luogo di lavoro | D17: ='Arsié (VAL.ASS.)'!D17:D20/11 -> 1 | E17: ='Arsié (VAL.ASS.)'!E17:E20/11 -> 0 | F17: ='Arsié (VAL.ASS.)'!F17:F20/11 -> 0 | G17: ='Arsié (VAL.ASS.)'!G17:G20/11 -> 0 | H17: ='Arsié (VAL.ASS.)'!H17:H20/11 -> 0
A21: 4. Nell'ultimo anno la mia organizzazione ha promosso azioni a favore della conciliazione dei tempi di lavoro e dei tempi di vita, anche con riferimento all'emergenza epidemiologica Covid-19 | D21: ='Arsié (VAL.ASS.)'!D21:D24/11 -> 0.18181818 | E21: ='Arsié (VAL.ASS.)'!E21:E24/11 -> 0 | F21: ='Arsié (VAL.ASS.)'!F21:F24/11 -> 0.63636364 | G21: ='Arsié (VAL.ASS.)'!G21:G24/11 -> 0.18181818 | H21: ='Arsié (VAL.ASS.)'!H21:H24/11 -> 0
A25: 5. Sono trattato/a correttamente e con rispetto in relazione alla mia appartenenza sindacale e/o al mio orientamento politico | D25: ='Arsié (VAL.ASS.)'!D25:D28/11 -> 0 | E25: ='Arsié (VAL.ASS.)'!E25:E28/11 -> 0 | F25: ='Arsié (VAL.ASS.)'!F25:F28/11 -> 0.18181818 | G25: ='Arsié (VAL.ASS.)'!G25:G28/11 -> 0.72727273 | H25: ='Arsié (VAL.ASS.)'!H25:H28/11 -> 0.090909091
A29: 6. Sono trattato/a correttamente e con rispetto in relazione alla mia religione/etnia e/o razza | D29: ='Arsié (VAL.ASS.)'!D29:D32/11 -> 0 | E29: ='Arsié (VAL.ASS.)'!E29:E32/11 -> 0 | F29: ='Arsié (VAL.ASS.)'!F29:F32/11 -> 0.18181818 | G29: ='Arsié (VAL.ASS.)'!G29:G32/11 -> 0.81818182 | H29: ='Arsié (VAL.ASS.)'!H29:H32/11 -> 0
A33: 7. La mia identità di genere costituisce un ostacolo alla mia valorizzazione sul lavoro | D33: ='Arsié (VAL.ASS.)'!D33:D36/11 -> 0.90909091 | E33: ='Arsié (VAL.ASS.)'!E33:E36/11 -> 0 | F33: ='Arsié (VAL.ASS.)'!F33:F36/11 -> 0 | G33: ='Arsié (VAL.ASS.)'!G33:G36/11 -> 0 | H33: ='Arsié (VAL.ASS.)'!H33:H36/11 -> 0.090909091
A37: 8. La mia età costituisce un ostacolo alla mia valorizzazione sul lavoro | D37: ='Arsié (VAL.ASS.)'!D37:D40/11 -> 0.81818182 | E37: ='Arsié (VAL.ASS.)'!E37:E40/11 -> 0.090909091 | F37: ='Arsié (VAL.ASS.)'!F37:F40/11 -> 0 | G37: ='Arsié (VAL.ASS.)'!G37:G40/11 -> 0 | H37: ='Arsié (VAL.ASS.)'!H37:H40/11 -> 0.090909091
A41: 9. I miei carichi di lavoro familiare costituiscono un ostacolo alla mia valorizzazione sul lavoro e alla mia crescita professionale | D41: ='Arsié (VAL.ASS.)'!D41:D44/11 -> 0.72727273 | E41: ='Arsié (VAL.ASS.)'!E41:E44/11 -> 0.18181818 | F41: ='Arsié (VAL.ASS.)'!F41:F44/11 -> 0.090909091 | G41: ='Arsié (VAL.ASS.)'!G41:G44/11 -> 0 | H41: ='Arsié (VAL.ASS.)'!H41:H44/11 -> 0
A45: Carichi di lavoro, carriera e sviluppo professionale, senso di appartenenza
A46: 10. Ritengo che il carico di lavoro che mi è assegnato sia commisurato al mio orario di lavoro | D46: ='Arsié (VAL.ASS.)'!D46:D49/11 -> 0 | E46: ='Arsié (VAL.ASS.)'!E46:E49/11 -> 0.27272727 | F46: ='Arsié (VAL.ASS.)'!F46:F49/11 -> 0.63636364 | G46: ='Arsié (VAL.ASS.)'!G46:G49/11 -> 0.090909091 | H46: ='Arsié (VAL.ASS.)'!H46:H49/11 -> 0
A50: 11. Il mio Ente ha una programmazione delle ferie che mi permette di usufruirne entro i limiti di legge e secondo le mie necessità | D50: ='Arsié (VAL.ASS.)'!D50:D53/11 -> 0 | E50: ='Arsié (VAL.ASS.)'!E50:E53/11 -> 0.090909091 | F50: ='Arsié (VAL.ASS.)'!F50:F53/11 -> 0.72727273 | G50: ='Arsié (VAL.ASS.)'!G50:G53/11 -> 0.18181818 | H50: ='Arsié (VAL.ASS.)'!H50:H53/11 -> 0
A54: 12. Nel mio Ente il percorso di sviluppo professionale di ciascuno è ben delineato e chiaro | D54: ='Arsié (VAL.ASS.)'!D54:D57/11 -> 0 | E54: ='Arsié (VAL.ASS.)'!E54:E57/11 -> 0.36363636 | F54: ='Arsié (VAL.ASS.)'!F54:F57/11 -> 0.54545455 | G54: ='Arsié (VAL.ASS.)'!G54:G57/11 -> 0 | H54: ='Arsié (VAL.ASS.)'!H54:H57/11 -> 0.090909091
A58: 13. Ritengo che le possibilità reali di fare carriera nel mio ente siano legate al merito | D58: ='Arsié (VAL.ASS.)'!D58:D61/11 -> 0.18181818 | E58: ='Arsié (VAL.ASS.)'!E58:E61/11 -> 0.45454545 | F58: ='Arsié (VAL.ASS.)'!F58:F61/11 -> 0.36363636 | G58: ='Arsié (VAL.ASS.)'!G58:G61/11 -> 0 | H58: ='Arsié (VAL.ASS.)'!H58:H61/11 -> 0
A62: 14. Il ruolo da me attualmente svolto è adeguato al mio profilo professionale | D62: ='Arsié (VAL.ASS.)'!D62:D65/11 -> 0.090909091 | E62: ='Arsié (VAL.ASS.)'!E62:E65/11 -> 0.090909091 | F62: ='Arsié (VAL.ASS.)'!F62:F65/11 -> 0.63636364 | G62: ='Arsié (VAL.ASS.)'!G62:G65/11 -> 0.18181818 | H62: ='Arsié (VAL.ASS.)'!H62:H65/11 -> 0
A66: 15. Ho le risorse e gli strumenti necessari per svolgere il mio lavoro | D66: ='Arsié (VAL.ASS.)'!D66:D69/11 -> 0 | E66: ='Arsié (VAL.ASS.)'!E66:E69/11 -> 0.090909091 | F66: ='Arsié (VAL.ASS.)'!F66:F69/11 -> 0.72727273 | G66: ='Arsié (VAL.ASS.)'!G66:G69/11 -> 0.18181818 | H66: ='Arsié (VAL.ASS.)'!H66:H69/11 -> 0
A70: 16. Ho un adeguato livello di autonomia nello svolgimento del mio lavoro | D70: ='Arsié (VAL.ASS.)'!D70:D73/11 -> 0 | E70: ='Arsié (VAL.ASS.)'!E70:E73/11 -> 0 | F70: ='Arsié (VAL.ASS.)'!F70:F73/11 -> 0.63636364 | G70: ='Arsié (VAL.ASS.)'!G70:G73/11 -> 0.36363636 | H70: ='Arsié (VAL.ASS.)'!H70:H73/11 -> 0
A74: 17. Nel mio gruppo di lavoro chi ha un'informazione la mette a disposizione di tutti | D74: ='Arsié (VAL.ASS.)'!D74:D77/11 -> 0 | E74: ='Arsié (VAL.ASS.)'!E74:E77/11 -> 0.090909091 | F74: ='Arsié (VAL.ASS.)'!F74:F77/11 -> 0.45454545 | G74: ='Arsié (VAL.ASS.)'!G74:G77/11 -> 0.45454545 | H74: ='Arsié (VAL.ASS.)'!H74:H77/11 -> 0
A78: 18. La mia organizzazione investe sulle persone, anche attraverso un'adeguata attività di formazione | D78: ='Arsié (VAL.ASS.)'!D78:D81/11 -> 0 | E78: ='Arsié (VAL.ASS.)'!E78:E81/11 -> 0.36363636 | F78: ='Arsié (VAL.ASS.)'!F78:F81/11 -> 0.63636364 | G78: ='Arsié (VAL.ASS.)'!G78:G81/11 -> 0 | H78: ='Arsié (VAL.ASS.)'!H78:H81/11 -> 0
A82: 19. Le regole di comportamento sono definite in modo chiaro | D82: ='Arsié (VAL.ASS.)'!D82:D85/11 -> 0.090909091 | E82: ='Arsié (VAL.ASS.)'!E82:E85/11 -> 0 | F82: ='Arsié (VAL.ASS.)'!F82:F85/11 -> 0.72727273 | G82: ='Arsié (VAL.ASS.)'!G82:G85/11 -> 0.18181818 | H82: ='Arsié (VAL.ASS.)'!H82:H85/11 -> 0
A86: 20. Sono orgoglioso quando il mio Ente raggiunge un buon risultato | D86: ='Arsié (VAL.ASS.)'!D86:D89/11 -> 0 | E86: ='Arsié (VAL.ASS.)'!E86:E89/11 -> 0 | F86: ='Arsié (VAL.ASS.)'!F86:F89/11 -> 0.36363636 | G86: ='Arsié (VAL.ASS.)'!G86:G89/11 -> 0.63636364 | H86: ='Arsié (VAL.ASS.)'!H86:H89/11 -> 0
A90: Grado di condivisione del sistema di valutazione
A91: 21. Ritengo di essere valutato/a sulla base di elementi importanti del mio lavoro | D91: ='Arsié (VAL.ASS.)'!D91:D94/11 -> 0 | E91: ='Arsié (VAL.ASS.)'!E91:E94/11 -> 0.090909091 | F91: ='Arsié (VAL.ASS.)'!F91:F94/11 -> 0.90909091 | G91: ='Arsié (VAL.ASS.)'!G91:G94/11 -> 0 | H91: ='Arsié (VAL.ASS.)'!H91:H94/11 -> 0
A95: 22. Sono chiari gli obiettivi e i risultati attesi dal mio responsabile con riguardo al mio lavoro | D95: ='Arsié (VAL.ASS.)'!D95:D98/11 -> 0 | E95: ='Arsié (VAL.ASS.)'!E95:E98/11 -> 0.090909091 | F95: ='Arsié (VAL.ASS.)'!F95:F98/11 -> 0.63636364 | G95: ='Arsié (VAL.ASS.)'!G95:G98/11 -> 0.27272727 | H95: ='Arsié (VAL.ASS.)'!H95:H98/11 -> 0
A99: 23. Sono correttamente informato/a sulla valutazione del mio lavoro | D99: ='Arsié (VAL.ASS.)'!D99:D102/11 -> 0.090909091 | E99: ='Arsié (VAL.ASS.)'!E99:E102/11 -> 0.18181818 | F99: ='Arsié (VAL.ASS.)'!F99:F102/11 -> 0.72727273 | G99: ='Arsié (VAL.ASS.)'!G99:G102/11 -> 0 | H99: ='Arsié (VAL.ASS.)'!H99:H102/11 -> 0
A103: 24. Sono sufficientemente coinvolto/a nel definire gli obiettivi e i risultati attesi del mio lavoro | D103: ='Arsié (VAL.ASS.)'!D103:D106/11 -> 0 | E103: ='Arsié (VAL.ASS.)'!E103:E106/11 -> 0.27272727 | F103: ='Arsié (VAL.ASS.)'!F103:F106/11 -> 0.63636364 | G103: ='Arsié (VAL.ASS.)'!G103:G106/11 -> 0.090909091 | H103: ='Arsié (VAL.ASS.)'!H103:H106/11 -> 0
A107: 25. Il sistema di misurazione e valutazione della performance mi è stato adeguatamente illustrato | D107: ='Arsié (VAL.ASS.)'!D107:D110/11 -> 0.090909091 | E107: ='Arsié (VAL.ASS.)'!E107:E110/11 -> 0.18181818 | F107: ='Arsié (VAL.ASS.)'!F107:F110/11 -> 0.63636364 | G107: ='Arsié (VAL.ASS.)'!G107:G110/11 -> 0.090909091 | H107: ='Arsié (VAL.ASS.)'!H107:H110/11 -> 0
A111: 26. Ritengo sia importante poter valutare le capacità e i comportamenti del mio responsabile | D111: ='Arsié (VAL.ASS.)'!D111:D114/11 -> 0 | E111: ='Arsié (VAL.ASS.)'!E111:E114/11 -> 0.090909091 | F111: ='Arsié (VAL.ASS.)'!F111:F114/11 -> 0.90909091 | G111: ='Arsié (VAL.ASS.)'!G111:G114/11 -> 0 | H111: ='Arsié (VAL.ASS.)'!H111:H114/11 -> 0
