Workbook

Sheet Quest
A1: Quest. Nr | B1: 1 | C1: 2 | D1: 3 | E1: 4 | F1: 5 | G1: 6 | H1: 7 | I1: 8 | J1: 9 | K1: 10 | L1: 11 | M1: 12 | N1: 13 | O1: 14 | P1: 15 | Q1: 16 | R1: 17 | S1: 18 | T1: 19 | U1: 20 | V1: 21 | W1: 22 | X1: 23 | Y1: 24 | Z1: 25 | AA1: 26 | AB1: 27 | AC1: 28 | AD1: 29 | AE1: 30 | AF1: 31 | AG1: 32 | AH1: 33 | AI1: 34 | AJ1: 35 | AK1: 36 | AL1: 37 | AM1: 38 | AN1: 39 | AO1: 40 | AP1: 41 | AQ1: 42 | AR1: 43 | AS1: 44 | AT1: 45 | AU1: 46 | AV1: 47 | AW1: 48 | AX1: 49 | AY1: 50
A2: 2.11 | B2: 4 | C2: 3 | D2: 3 | E2: 3 | F2: 3 | G2: 3 | H2: 1 | I2: 2 | J2: 2 | K2: 3 | L2: 2 | M2: 1
A3: 2.12 | B3: 4 | C3: 4 | D3: 4 | E3: 3 | F3: 4 | G3: 3 | H3: 2 | I3: 2 | J3: 2 | K3: 4 | L3: 3 | M3: 1
A4: 2.13 | B4: 4 | C4: 3 | D4: 3 | E4: 2 | F4: 4 | G4: 2 | H4: 2 | I4: 3 | J4: 2 | K4: 2 | L4: 1 | M4: 2
A5: 2.14 | B5: 3 | C5: 3 | D5: 3 | E5: 2 | F5: 3 | G5: 3 | H5: 2 | I5: 3 | J5: 2 | K5: 3 | L5: 2 | M5: 3
A6: 2.15 | B6: 2 | C6: 3 | D6: 3 | E6: 2 | F6: 4 | G6: 2 | H6: 2 | I6: 3 | J6: 2 | K6: 2 | L6: 1 | M6: 2
A7: 2.16 | B7: 4 | C7: 4 | D7: 3 | E7: 2 | F7: 4 | G7: 3 | H7: 2 | I7: 3 | J7: 2 | K7: 2 | L7: 1 | M7: 3
A8: 2.17 | B8: 4 | C8: 4 | D8: 3 | E8: 2 | F8: 4 | G8: 4 | H8: 2 | I8: 2 | J8: 2 | K8: 3 | L8: 3 | M8: 4
A9: 2.18 | B9: 3 | C9: 3 | D9: 2 | E9: 2 | F9: 3 | G9: 4 | H9: 2 | I9: 3 | J9: 2 | K9: 3 | L9: 3 | M9: 3
A10: 3.1 | B10: 3 | C10: 3 | D10: 3 | E10: 3 | F10: 2 | G10: 1 | H10: 1 | I10: 2 | J10: 1 | K10: 2 | L10: 1 | M10: 1
A11: 3.2 | B11: 4 | C11: 3 | D11: 4 | E11: 2 | F11: 2 | G11: 1 | H11: 1 | I11: 2 | J11: 2 | K11: 3 | L11: 1 | M11: 2
A12: 3.3 | B12: 4 | C12: 3 | D12: 3 | E12: 2 | F12: 1 | G12: 2 | H12: 1 | I12: 2 | J12: 1 | K12: 2 | L12: 1 | M12: 1
A13: 3.4 | B13: 4 | C13: 4 | D13: 2 | E13: 2 | F13: 1 | G13: 2 | H13: 1 | I13: 1 | J13: 1 | K13: 1 | L13: 1 | M13: 1
... A38: 5.13 | B38: 22 | C38: 0 | D38: 1 | E38: 1 | F38: 22 | G38: 15 | H38: 20 | I38: 22 | J38: 0 | K38: 18 | L38: 0 | M38: 22

Sheet Risultati
A1: QUESTIONARIO BENESSERE ORGANIZZATIVO 2022 - Risultati valutazione
A4: Consegnati: | B4: 15
A5: Risposte: | B5: 12
A6: Mancanti: | B6: 3
A8: 2.1 COME VALUTA IL COMFORT DELL’AMBIENTE IN CUI LAVORA?
B9: Insufficiente | C9: Mediocre | D9: Buono | E9: Ottimo | F9: Totale
A10: Pulizia | B10: =SUMIF(Quest!B2:AY2,1)/1 -> 2 | C10: =SUMIF(Quest!B2:AY2,2)/2 -> 3 | D10: =SUMIF(Quest!B2:AY2,3)/3 -> 6 | E10: =SUMIF(Quest!B2:AY2,4)/4 -> 1 | F10: =SUM(B10:E10) -> 12
A11: Illuminazione | B11: =SUMIF(Quest!B3:AY3,1)/1 -> 1 | C11: =SUMIF(Quest!B3:AY3,2)/2 -> 3 | D11: =SUMIF(Quest!B3:AY3,3)/3 -> 3 | E11: =SUMIF(Quest!B3:AY3,4)/4 -> 5 | F11: =SUM(B11:E11) -> 12
A12: Temperatura | B12: =SUMIF(Quest!B4:AY4,1)/1 -> 1 | C12: =SUMIF(Quest!B4:AY4,2)/2 -> 6 | D12: =SUMIF(Quest!B4:AY4,3)/3 -> 3 | E12: =SUMIF(Quest!B4:AY4,4)/4 -> 2 | F12: =SUM(B12:E12) -> 12
A13: Gradevolezza Ambienti | B13: =SUMIF(Quest!B5:AY5,1)/1 -> 0 | C13: =SUMIF(Quest!B5:AY5,2)/2 -> 4 | D13: =SUMIF(Quest!B5:AY5,3)/3 -> 8 | E13: =SUMIF(Quest!B5:AY5,4)/4 -> 0 | F13: =SUM(B13:E13) -> 12
A14: Condizioni dell’edificio | B14: =SUMIF(Quest!B6:AY6,1)/1 -> 1 | C14: =SUMIF(Quest!B6:AY6,2)/2 -> 7 | D14: =SUMIF(Quest!B6:AY6,3)/3 -> 3 | E14: =SUMIF(Quest!B6:AY6,4)/4 -> 1 | F14: =SUM(B14:E14) -> 12
A15: Qualità dell’aria | B15: =SUMIF(Quest!B7:AY7,1)/1 -> 1 | C15: =SUMIF(Quest!B7:AY7,2)/2 -> 4 | D15: =SUMIF(Quest!B7:AY7,3)/3 -> 4 | E15: =SUMIF(Quest!B7:AY7,4)/4 -> 3 | F15: =SUM(B15:E15) -> 12
A16: Spazio personale | B16: =SUMIF(Quest!B8:AY8,1)/1 -> 0 | C16: =SUMIF(Quest!B8:AY8,2)/2 -> 4 | D16: =SUMIF(Quest!B8:AY8,3)/3 -> 3 | E16: =SUMIF(Quest!B8:AY8,4)/4 -> 5 | F16: =SUM(B16:E16) -> 12
A17: Comodità arredi | B17: =SUMIF(Quest!B9:AY9,1)/1 -> 0 | C17: =SUMIF(Quest!B9:AY9,2)/2 -> 4 | D17: =SUMIF(Quest!B9:AY9,3)/3 -> 7 | E17: =SUMIF(Quest!B9:AY9,4)/4 -> 1 | F17: =SUM(B17:E17) -> 12
A39: 3.1 NEL MIO ENTE IL PERCORSO DI SVILUPPO PROFESSIONALE È ADEGUATO ALLA PREPARAZIONE DI CIASCUNO?
B40: Per nulla | C40: Raramente | D40: Spesso | E40: Del tutto | F40: Totale
B41: =SUMIF(Quest!B10:AY10,1)/1 -> 5 | C41: =SUMIF(Quest!B10:AY10,2)/2 -> 3 | D41: =SUMIF(Quest!B10:AY10,3)/3 -> 4 | E41: =SUMIF(Quest!B10:AY10,4)/4 -> 0 | F41: =SUM(B41:E41) -> 12
A63: 3.2 IL RUOLO DA ME RICOPERTO È ADEGUATO AL MIO PROFILO PROFESSIONALE?
B64: Per nulla | C64: Raramente | D64: Spesso | E64: Del tutto | F64: Totale
B65: =SUMIF(Quest!B11:AY11,1)/1 -> 3 | C65: =SUMIF(Quest!B11:AY11,2)/2 -> 5 | D65: =SUMIF(Quest!B11:AY11,3)/3 -> 2 | E65: =SUMIF(Quest!B11:AY11,4)/4 -> 2 | F65: =SUM(B65:E65) -> 12
A87: 3.3 IL LAVORO CONSENTE DI FAR EMERGERE LE QUALITÀ PERSONALI E PROFESSIONALI DI OGNUNO?
B88: Per nulla | C88: Raramente | D88: Spesso | E88: Del tutto | F88: Totale
B89: =SUMIF(Quest!B12:AY12,1)/1 -> 5 | C89: =SUMIF(Quest!B12:AY12,2)/2 -> 4 | D89: =SUMIF(Quest!B12:AY12,3)/3 -> 2 | E89: =SUMIF(Quest!B12:AY12,4)/4 -> 1 | F89: =SUM(B89:E89) -> 12
A111: 3.4 L’IMPEGNO SUL LAVORO E LE INIZIATIVE PERSONALI SONO APPREZZATE (CON RICONOSCIMENTI ECONOMICI ETC.)?
B112: Per nulla | C112: Raramente | D112: Spesso | E112: Del tutto | F112: Totale
B113: =SUMIF(Quest!B13:AY13,1)/1 -> 7 | C113: =SUMIF(Quest!B13:AY13,2)/2 -> 3 | D113: =SUMIF(Quest!B13:AY13,3)/3 -> 0 | E113: =SUMIF(Quest!B13:AY13,4)/4 -> 2 | F113: =SUM(B113:E113) -> 12
A135: 3.5 I CRITERI CON CUI SI VALUTANO LE PERSONE SONO EQUI E TRASPARENTI?
B136: Per nulla | C136: Raramente | D136: Spesso | E136: Del tutto | F136: Totale
B137: =SUMIF(Quest!B14:AY14,1)/1 -> 5 | C137: =SUMIF(Quest!B14:AY14,2)/2 -> 4 | D137: =SUMIF(Quest!B14:AY14,3)/3 -> 2 | E137: =SUMIF(Quest!B14:AY14,4)/4 -> 1 | F137: =SUM(B137:E137) -> 12
A159: 3.6 VENGONO OFFERTE OPPORTUNITÀ DI AGGIORNAMENTO E SVILUPPO PROFESSIONALE?
B160: Per nulla | C160: Raramente | D160: Spesso | E160: Del tutto | F160: Totale
B161: =SUMIF(Quest!B15:AY15,1)/1 -> 4 | C161: =SUMIF(Quest!B15:AY15,2)/2 -> 4 | D161: =SUMIF(Quest!B15:AY15,3)/3 -> 3 | E161: =SUMIF(Quest!B15:AY15,4)/4 -> 1 | F161: =SUM(B161:E161) -> 12
A183: 3.7 GLI INCENTIVI ECONOMICI SONO DISTRIBUITI SULLA BASE DELL’EFFICACIA DELLE PRESTAZIONI?
B184: Per nulla | C184: Raramente | D184: Spesso | E184: Del tutto | F184: Totale
B185: =SUMIF(Quest!B16:AY16,1)/1 -> 5 | C185: =SUMIF(Quest!B16:AY16,2)/2 -> 4 | D185: =SUMIF(Quest!B16:AY16,3)/3 -> 1 | E185: =SUMIF(Quest!B16:AY16,4)/4 -> 2 | F185: =SUM(B185:E185) -> 12
A207: 4.1 IN CHE MISURA PERCEPISCE QUANTO SEGUE NEL SUO AMBIENTE DI LAVORO?
B208: Per nulla | C208: Raramente | D208: A volte | E208: Del tutto | F208: Totale
A209: Soddisfazione per la propria organizzazione | B209: =SUMIF(Quest!B17:AY17,1)/1 -> 3 | C209: =SUMIF(Quest!B17:AY17,2)/2 -> 6 | D209: =SUMIF(Quest!B17:AY17,3)/3 -> 1 | E209: =SUMIF(Quest!B17:AY17,4)/4 -> 2 | F209: =SUM(B209:E209) -> 12
A210: Voglia di impegnare nuove energie per l’organizzazione | B210: =SUMIF(Quest!B18:AY18,1)/1 -> 5 | C210: =SUMIF(Quest!B18:AY18,2)/2 -> 4 | D210: =SUMIF(Quest!B18:AY18,3)/3 -> 1 | E210: =SUMIF(Quest!B18:AY18,4)/4 -> 1 | F210: =SUM(B210:E210) -> 11
A211: Sensazione di far parte di una squadra | B211: =SUMIF(Quest!B19:AY19,1)/1 -> 2 | C211: =SUMIF(Quest!B19:AY19,2)/2 -> 4 | D211: =SUMIF(Quest!B19:AY19,3)/3 -> 4 | E211: =SUMIF(Quest!B19:AY19,4)/4 -> 1 | F211: =SUM(B211:E211) -> 11
...
