Workbook

Sheet Risultati
A1: QUESTIONARIO BENESSERE ORGANIZZATIVO 2024 - Risultati valutazione
A2: Comune di Arsiè
A4: Consegnati: | B4: 15
A5: Risposte: | B5: 15
A6: Mancanti: | B6: 0
A8: 2.1 COME VALUTA IL COMFORT DELL’AMBIENTE IN CUI LAVORA?
B9: Insufficiente | C9: Mediocre | D9: Buono | E9: Ottimo | F9: Totale
A10: Pulizia | B10: =SUMIF(Quest!B2:AY2,1)/1 -> 0 | C10: =SUMIF(Quest!B2:AY2,2)/2 -> 5 | D10: =SUMIF(Quest!B2:AY2,3)/3 -> 7 | E10: =SUMIF(Quest!B2:AY2,4)/4 -> 3 | F10: =SUM(B10:E10) -> 15
A11: Illuminazione | B11: =SUMIF(Quest!B3:AY3,1)/1 -> 0 | C11: =SUMIF(Quest!B3:AY3,2)/2 -> 1 | D11: =SUMIF(Quest!B3:AY3,3)/3 -> 8 | E11: =SUMIF(Quest!B3:AY3,4)/4 -> 6 | F11: =SUM(B11:E11) -> 15
A12: Temperatura | B12: =SUMIF(Quest!B4:AY4,1)/1 -> 2 | C12: =SUMIF(Quest!B4:AY4,2)/2 -> 3 | D12: =SUMIF(Quest!B4:AY4,3)/3 -> 10 | E12: =SUMIF(Quest!B4:AY4,4)/4 -> 0 | F12: =SUM(B12:E12) -> 15
A13: Gradevolezza Ambienti | B13: =SUMIF(Quest!B5:AY5,1)/1 -> 0 | C13: =SUMIF(Quest!B5:AY5,2)/2 -> 1 | D13: =SUMIF(Quest!B5:AY5,3)/3 -> 9 | E13: =SUMIF(Quest!B5:AY5,4)/4 -> 4 | F13: =SUM(B13:E13) -> 14
A14: Condizioni dell’edificio | B14: =SUMIF(Quest!B6:AY6,1)/1 -> 1 | C14: =SUMIF(Quest!B6:AY6,2)/2 -> 7 | D14: =SUMIF(Quest!B6:AY6,3)/3 -> 7 | E14: =SUMIF(Quest!B6:AY6,4)/4 -> 0 | F14: =SUM(B14:E14) -> 15
A15: Qualità dell’aria | B15: =SUMIF(Quest!B7:AY7,1)/1 -> 0 | C15: =SUMIF(Quest!B7:AY7,2)/2 -> 5 | D15: =SUMIF(Quest!B7:AY7,3)/3 -> 8 | E15: =SUMIF(Quest!B7:AY7,4)/4 -> 2 | F15: =SUM(B15:E15) -> 15
A16: Spazio personale | B16: =SUMIF(Quest!B8:AY8,1)/1 -> 0 | C16: =SUMIF(Quest!B8:AY8,2)/2 -> 4 | D16: =SUMIF(Quest!B8:AY8,3)/3 -> 4 | E16: =SUMIF(Quest!B8:AY8,4)/4 -> 7 | F16: =SUM(B16:E16) -> 15
A17: Comodità arredi | B17: =SUMIF(Quest!B9:AY9,1)/1 -> 1 | C17: =SUMIF(Quest!B9:AY9,2)/2 -> 4 | D17: =SUMIF(Quest!B9:AY9,3)/3 -> 4 | E17: =SUMIF(Quest!B9:AY9,4)/4 -> 6 | F17: =SUM(B17:E17) -> 15
A39: 3.1 NEL MIO ENTE IL PERCORSO DI SVILUPPO PROFESSIONALE È ADEGUATO ALLA PREPARAZIONE DI CIASCUNO?
B40: Per nulla | C40: Raramente | D40: Spesso | E40: Del tutto | F40: Totale
B41: =SUMIF(Quest!B10:AY10,1)/1 -> 3 | C41: =SUMIF(Quest!B10:AY10,2)/2 -> 4 | D41: =SUMIF(Quest!B10:AY10,3)/3 -> 6 | E41: =SUMIF(Quest!B10:AY10,4)/4 -> 2 | F41: =SUM(B41:E41) -> 15
A63: 3.2 IL RUOLO DA ME RICOPERTO È ADEGUATO AL MIO PROFILO PROFESSIONALE?
B64: Per nulla | C64: Raramente | D64: Spesso | E64: Del tutto | F64: Totale
B65: =SUMIF(Quest!B11:AY11,1)/1 -> 2 | C65: =SUMIF(Quest!B11:AY11,2)/2 -> 3 | D65: =SUMIF(Quest!B11:AY11,3)/3 -> 8 | E65: =SUMIF(Quest!B11:AY11,4)/4 -> 2 | F65: =SUM(B65:E65) -> 15
A87: 3.3 IL LAVORO CONSENTE DI FAR EMERGERE LE QUALITÀ PERSONALI E PROFESSIONALI DI OGNUNO?
B88: Per nulla | C88: Raramente | D88: Spesso | E88: Del tutto | F88: Totale
B89: =SUMIF(Quest!B12:AY12,1)/1 -> 3 | C89: =SUMIF(Quest!B12:AY12,2)/2 -> 6 | D89: =SUMIF(Quest!B12:AY12,3)/3 -> 3 | E89: =SUMIF(Quest!B12:AY12,4)/4 -> 3 | F89: =SUM(B89:E89) -> 15
A111: 3.4 L’IMPEGNO SUL LAVORO E LE INIZIATIVE PERSONALI SONO APPREZZATE (CON RICONOSCIMENTI ECONOMICI ETC.)?
B112: Per nulla | C112: Raramente | D112: Spesso | E112: Del tutto | F112: Totale
B113: =SUMIF(Quest!B13:AY13,1)/1 -> 6 | C113: =SUMIF(Quest!B13:AY13,2)/2 -> 3 | D113: =SUMIF(Quest!B13:AY13,3)/3 -> 4 | E113: =SUMIF(Quest!B13:AY13,4)/4 -> 2 | F113: =SUM(B113:E113) -> 15
A135: 3.5 I CRITERI CON CUI SI VALUTANO LE PERSONE SONO EQUI E TRASPARENTI?
B136: Per nulla | C136: Raramente | D136: Spesso | E136: Del tutto | F136: Totale
B137: =SUMIF(Quest!B14:AY14,1)/1 -> 3 | C137: =SUMIF(Quest!B14:AY14,2)/2 -> 5 | D137: =SUMIF(Quest!B14:AY14,3)/3 -> 5 | E137: =SUMIF(Quest!B14:AY14,4)/4 -> 0 | F137: =SUM(B137:E137) -> 13
A159: 3.6 VENGONO OFFERTE OPPORTUNITÀ DI AGGIORNAMENTO E SVILUPPO PROFESSIONALE?
B160: Per nulla | C160: Raramente | D160: Spesso | E160: Del tutto | F160: Totale
B161: =SUMIF(Quest!B15:AY15,1)/1 -> 3 | C161: =SUMIF(Quest!B15:AY15,2)/2 -> 5 | D161: =SUMIF(Quest!B15:AY15,3)/3 -> 5 | E161: =SUMIF(Quest!B15:AY15,4)/4 -> 2 | F161: =SUM(B161:E161) -> 15
A183: 3.7 GLI INCENTIVI ECONOMICI SONO DISTRIBUITI SULLA BASE DELL’EFFICACIA DELLE PRESTAZIONI?
B184: Per nulla | C184: Raramente | D184: Spesso | E184: Del tutto | F184: Totale
B185: =SUMIF(Quest!B16:AY16,1)/1 -> 3 | C185: =SUMIF(Quest!B16:AY16,2)/2 -> 8 | D185: =SUMIF(Quest!B16:AY16,3)/3 -> 4 | E185: =SUMIF(Quest!B16:AY16,4)/4 -> 0 | F185: =SUM(B185:E185) -> 15
A207: SE RISPONDE PER NULLA, QUALI SONO A SUO GIUDIZIO GLI ASPETTI DA MIGLIORARE NELA DISTRIBUZIONE DEGLI INCENTIVI ECONOMICI
A209: R: DISPONIBILITà OPERAI/LIVELLI/INCENTIVI
A211: 4.1 IN CHE MISURA PERCEPISCE QUANTO SEGUE NEL SUO AMBIENTE DI LAVORO?
B212: Per nulla | C212: Raramente | D212: A volte | E212: Del tutto | F212: Totale
...

Sheet Quest
A1: Quest. Nr | B1: 1 | C1: 2 | D1: 3 | E1: 4 | F1: 5 | G1: 6 | H1: 7 | I1: 8 | J1: 9 | K1: 10 | L1: 11 | M1: 12 | N1: 13 | O1: 14 | P1: 15 | Q1: 16 | R1: 17 | S1: 18 | T1: 19 | U1: 20 | V1: 21 | W1: 22 | X1: 23 | Y1: 24 | Z1: 25 | AA1: 26 | AB1: 27 | AC1: 28 | AD1: 29 | AE1: 30 | AF1: 31 | AG1: 32 | AH1: 33 | AI1: 34 | AJ1: 35 | AK1: 36 | AL1: 37 | AM1: 38 | AN1: 39 | AO1: 40 | AP1: 41 | AQ1: 42 | AR1: 43 | AS1: 44 | AT1: 45 | AU1: 46 | AV1: 47 | AW1: 48 | AX1: 49 | AY1: 50
A2: 2.11 | B2: 2 | C2: 3 | D2: 3 | E2: 2 | F2: 3 | G2: 3 | H2: 3 | I2: 2 | J2: 2 | K2: 4 | L2: 4 | M2: 2 | N2: 3 | O2: 4 | P2: 3
A3: 2.12 | B3: 4 | C3: 3 | D3: 4 | E3: 3 | F3: 2 | G3: 3 | H3: 3 | I3: 3 | J3: 3 | K3: 4 | L3: 4 | M3: 4 | N3: 4 | O3: 3 | P3: 3
A4: 2.13 | B4: 3 | C4: 3 | D4: 3 | E4: 2 | F4: 2 | G4: 3 | H4: 3 | I4: 1 | J4: 1 | K4: 3 | L4: 3 | M4: 3 | N4: 2 | O4: 3 | P4: 3
A5: 2.14 | B5: 4 | D5: 4 | E5: 3 | F5: 2 | G5: 3 | H5: 3 | I5: 3 | J5: 3 | K5: 4 | L5: 4 | M5: 3 | N5: 3 | O5: 3 | P5: 3
A6: 2.15 | B6: 2 | C6: 2 | D6: 3 | E6: 2 | F6: 2 | G6: 3 | H6: 3 | I6: 2 | J6: 2 | K6: 3 | L6: 3 | M6: 1 | N6: 3 | O6: 3 | P6: 2
A7: 2.16 | B7: 3 | C7: 3 | D7: 4 | E7: 2 | F7: 2 | G7: 3 | H7: 3 | I7: 3 | J7: 4 | K7: 3 | L7: 3 | M7: 2 | N7: 3 | O7: 2 | P7: 2
A8: 2.17 | B8: 4 | C8: 3 | D8: 4 | E8: 2 | F8: 2 | G8: 3 | H8: 3 | I8: 4 | J8: 4 | K8: 4 | L8: 4 | M8: 4 | N8: 3 | O8: 2 | P8: 2
A9: 2.18 | B9: 4 | C9: 2 | D9: 4 | E9: 3 | F9: 2 | G9: 2 | H9: 3 | I9: 4 | J9: 4 | K9: 4 | L9: 4 | M9: 3 | N9: 3 | O9: 1 | P9: 2
A10: 3.1 | B10: 3 | C10: 1 | D10: 3 | E10: 2 | F10: 2 | G10: 3 | H10: 3 | I10: 1 | J10: 2 | K10: 4 | L10: 4 | M10: 3 | N10: 3 | O10: 1 | P10: 2
A11: 3.2 | B11: 3 | C11: 1 | D11: 3 | E11: 2 | F11: 2 | G11: 3 | H11: 3 | I11: 3 | J11: 3 | K11: 4 | L11: 4 | M11: 3 | N11: 3 | O11: 1 | P11: 2
A12: 3.3 | B12: 3 | C12: 1 | D12: 2 | E12: 2 | F12: 2 | G12: 3 | H12: 2 | I12: 2 | J12: 1 | K12: 4 | L12: 4 | M12: 3 | N12: 4 | O12: 1 | P12: 2
A13: 3.4 | B13: 3 | C13: 1 | D13: 1 | E13: 1 | F13: 2 | G13: 2 | H13: 3 | I13: 1 | J13: 1 | K13: 4 | L13: 4 | M13: 3 | N13: 3 | O13: 1 | P13: 2
A14: 3.5 | B14: 3 | C14: 1 | D14: 2 | F14: 2 | G14: 3 | I14: 1 | J14: 2 | K14: 3 | L14: 3 | M14: 3 | N14: 2 | O14: 1 | P14: 2
A15: 3.6 | B15: 3 | C15: 1 | D15: 1 | E15: 3 | F15: 2 | G15: 3 | H15: 2 | I15: 2 | J15: 2 | K15: 4 | L15: 4 | M15: 3 | N15: 3 | O15: 1 | P15: 2
A16: 3.7 | B16: 2 | C16: 1 | D16: 1 | E16: 2 | F16: 2 | G16: 3 | H16: 2 | I16: 3 | J16: 3 | K16: 2 | L16: 2 | M16: 3 | N16: 2 | O16: 1 | P16: 2
A17: 4.11 | B17: 3 | D17: 3 | E17: 2 | G17: 3 | H17: 3 | I17: 3 | J17: 3 | K17: 4 | L17: 4 | M17: 2 | N17: 3 | O17: 1 | P17: 2
A18: 4.12 | B18: 3 | C18: 1 | E18: 2 | F18: 3 | G18: 3 | H18: 3 | I18: 3 | J18: 3 | K18: 4 | L18: 4 | M18: 3 | N18: 3 | O18: 1 | P18: 2
A19: 4.13 | B19: 3 | C19: 1 | D19: 2 | E19: 2 | F19: 3 | G19: 4 | H19: 3 | I19: 2 | J19: 3 | K19: 4 | L19: 4 | M19: 2 | N19: 4 | O19: 1 | P19: 2
A20: 4.14 | B20: 3 | C20: 1 | D20: 3 | E20: 2 | F20: 3 | G20: 3 | H20: 3 | I20: 3 | J20: 4 | K20: 4 | L20: 4 | M20: 2 | N20: 3 | O20: 1 | P20: 2
A21: 4.15 | B21: 3 | C21: 1 | D21: 1 | E21: 1 | F21: 3 | G21: 2 | H21: 2 | I21: 2 | J21: 2 | K21: 4 | L21: 4 | M21: 1 | N21: 2 | O21: 2 | P21: 2
A22: 4.21 | B22: 3 | C22: 3 | D22: 1 | E22: 2 | F22: 1 | G22: 1 | H22: 3 | I22: 1 | J22: 1 | K22: 1 | L22: 1 | M22: 2 | N22: 1 | O22: 2 | P22: 2
A23: 4.22 | B23: 3 | C23: 3 | D23: 1 | E23: 2 | F23: 1 | G23: 1 | H23: 3 | I23: 1 | J23: 1 | K23: 1 | L23: 1 | M23: 1 | N23: 1 | O23: 3 | P23: 2
A24: 4.23 | B24: 3 | C24: 1 | D24: 1 | E24: 4 | F24: 1 | G24: 2 | I24: 2 | J24: 2 | K24: 1 | L24: 1 | M24: 3 | N24: 2 | O24: 4 | P24: 3
A25: 4.24 | B25: 3 | C25: 4 | D25: 1 | E25: 2 | F25: 1 | G25: 1 | I25: 2 | J25: 1 | K25: 1 | L25: 1 | M25: 1 | N25: 1 | O25: 4 | P25: 3
A26: 4.25 | B26: 3 | C26: 1 | D26: 1 | E26: 3 | F26: 1 | G26: 3 | I26: 2 | J26: 2 | K26: 1 | L26: 1 | M26: 3 | N26: 2 | O26: 4 | P26: 3
A27: 4.26 | B27: 3 | C27: 1 | D27: 3 | E27: 2 | F27: 2 | G27: 2 | I27: 4 | J27: 2 | K27: 1 | L27: 1 | M27: 2 | N27: 2 | O27: 4 | P27: 3
A28: 4.27 | B28: 3 | C28: 4 | D28: 1 | E28: 2 | F28: 1 | G28: 1 | I28: 2 | J28: 2 | K28: 1 | L28: 1 | M28: 2 | N28: 2 | O28: 3 | P28: 2
A29: 4.28 | B29: 3 | C29: 2 | D29: 1 | E29: 2 | F29: 2 | G29: 1 | I29: 1 | J29: 1 | K29: 1 | L29: 1 | M29: 2 | N29: 1 | O29: 3
A30: 4.31 | B30: 3 | D30: 2 | E30: 2 | F30: 3 | G30: 3 | H30: 3 | I30: 3 | J30: 3 | K30: 3 | L30: 3 | M30: 2 | N30: 3 | O30: 3 | P30: 3
A31: 4.32 | B31: 3 | D31: 3 | E31: 2 | F31: 3 | G31: 3 | H31: 3 | I31: 4 | J31: 4 | K31: 3 | L31: 3 | M31: 3 | N31: 3 | O31: 4 | P31: 4
A32: 4.33 | B32: 3 | D32: 2 | E32: 2 | F32: 3 | G32: 4 | H32: 3 | I32: 3 | J32: 3 | K32: 3 | L32: 3 | M32: 3 | N32: 3 | O32: 1 | P32: 2
A33: 4.34 | B33: 3 | D33: 3 | E33: 3 | F33: 3 | G33: 4 | H33: 2 | I33: 1 | J33: 2 | K33: 4 | L33: 4 | M33: 3 | N33: 2 | O33: 1 | P33: 2
A34: 4.35 | B34: 3 | D34: 3 | E34: 2 | F34: 3 | G34: 3 | H34: 3 | I34: 4 | J34: 4 | K34: 3 | L34: 3 | N34: 3 | O34: 3 | P34: 3
A35: 4.36 | B35: 3 | D35: 2 | E35: 2 | F35: 3 | G35: 3 | H35: 3 | I35: 3 | J35: 4 | K35: 3 | L35: 3 | N35: 3 | O35: 3 | P35: 3
A36: 4.41 | B36: 2 | D36: 2 | E36: 1 | F36: 3 | G36: 2 | H36: 3 | I36: 3 | J36: 1 | K36: 3 | L36: 3 | M36: 2 | N36: 2 | O36: 1 | P36: 2
A37: 4.42 | B37: 3 | D37: 3 | E37: 1 | F37: 3 | G37: 3 | H37: 3 | I37: 3 | J37: 3 | K37: 4 | L37: 4 | M37: 3 | N37: 2 | O37: 3 | P37: 3
A38: 4.43 | B38: 2 | D38: 1 | E38: 1 | F38: 3 | G38: 2 | H38: 1 | I38: 1 | J38: 1 | K38: 2 | L38: 2 | M38: 3 | N38: 3 | O38: 1 | P38: 1
A39: 4.44 | B39: 2 | D39: 1 | E39: 1 | F39: 3 | G39: 2 | H39: 2 | I39: 1 | J39: 1 | K39: 2 | L39: 2 | M39: 2 | N39: 2 | O39: 2 | P39: 2
A40: 4.45 | B40: 3 | D40: 3 | E40: 2 | F40: 3 | G40: 4 | H40: 3 | I40: 4 | J40: 4 | K40: 4 | L40: 4 | M40: 4 | N40: 4 | O40: 2 | P40: 2
...
