Workbook

Sheet Risultati
A1: QUESTIONARIO BENESSERE ORGANIZZATIVO 2024 - Risultati valutazione
A2: Comune di Arsiè
A4: Consegnati: | B4: 15
A5: Risposte: | B5: 15
A6: Mancanti: | B6: 0
A8: 2.1 COME VALUTA IL COMFORT DELL’AMBIENTE IN CUI LAVORA?
B9: Insufficiente | C9: Mediocre | D9: Buono | E9: Ottimo | F9: Totale
A10: Pulizia | B10: =SUMIF(Quest!B2:AY2,1)/1 -> 0 | C10: =SUMIF(Quest!B2:AY2,2)/2 -> 5 | D10: =SUMIF(Quest!B2:AY2,3)/3 -> 7 | E10: =SUMIF(Quest!B2:AY2,4)/4 -> 3 | F10: =SUM(B10:E10) -> 15
A11: Illuminazione | B11: =SUMIF(Quest!B3:AY3,1)/1 -> 0 | C11: =SUMIF(Quest!B3:AY3,2)/2 -> 1 | D11: =SUMIF(Quest!B3:AY3,3)/3 -> 8 | E11: =SUMIF(Quest!B3:AY3,4)/4 -> 6 | F11: =SUM(B11:E11) -> 15
A12: Temperatura | B12: =SUMIF(Quest!B4:AY4,1)/1 -> 2 | C12: =SUMIF(Quest!B4:AY4,2)/2 -> 3 | D12: =SUMIF(Quest!B4:AY4,3)/3 -> 10 | E12: =SUMIF(Quest!B4:AY4,4)/4 -> 0 | F12: =SUM(B12:E12) -> 15
A13: Gradevolezza Ambienti | B13: =SUMIF(Quest!B5:AY5,1)/1 -> 0 | C13: =SUMIF(Quest!B5:AY5,2)/2 -> 1 | D13: =SUMIF(Quest!B5:AY5,3)/3 -> 9 | E13: =SUMIF(Quest!B5:AY5,4)/4 -> 4 | F13: =SUM(B13:E13) -> 14
A14: Condizioni dell’edificio | B14: =SUMIF(Quest!B6:AY6,1)/1 -> 1 | C14: =SUMIF(Quest!B6:AY6,2)/2 -> 7 | D14: =SUMIF(Quest!B6:AY6,3)/3 -> 7 | E14: =SUMIF(Quest!B6:AY6,4)/4 -> 0 | F14: =SUM(B14:E14) -> 15
A15: Qualità dell’aria | B15: =SUMIF(Quest!B7:AY7,1)/1 -> 0 | C15: =SUMIF(Quest!B7:AY7,2)/2 -> 5 | D15: =SUMIF(Quest!B7:AY7,3)/3 -> 8 | E15: =SUMIF(Quest!B7:AY7,4)/4 -> 2 | F15: =SUM(B15:E15) -> 15
A16: Spazio personale | B16: =SUMIF(Quest!B8:AY8,1)/1 -> 0 | C16: =SUMIF(Quest!B8:AY8,2)/2 -> 4 | D16: =SUMIF(Quest!B8:AY8,3)/3 -> 4 | E16: =SUMIF(Quest!B8:AY8,4)/4 -> 7 | F16: =SUM(B16:E16) -> 15
A17: Comodità arredi | B17: =SUMIF(Quest!B9:AY9,1)/1 -> 1 | C17: =SUMIF(Quest!B9:AY9,2)/2 -> 4 | D17: =SUMIF(Quest!B9:AY9,3)/3 -> 4 | E17: =SUMIF(Quest!B9:AY9,4)/4 -> 6 | F17: =SUM(B17:E17) -> 15
A39: 3.1 NEL MIO ENTE IL PERCORSO DI SVILUPPO PROFESSIONALE È ADEGUATO ALLA PREPARAZIONE DI CIASCUNO?
B40: Per nulla | C40: Raramente | D40: Spesso | E40: Del tutto | F40: Totale
B41: =SUMIF(Quest!B10:AY10,1)/1 -> 3 | C41: =SUMIF(Quest!B10:AY10,2)/2 -> 4 | D41: =SUMIF(Quest!B10:AY10,3)/3 -> 6 | E41: =SUMIF(Quest!B10:AY10,4)/4 -> 2 | F41: =SUM(B41:E41) -> 15
A63: 3.2 IL RUOLO DA ME RICOPERTO È ADEGUATO AL MIO PROFILO PROFESSIONALE?
B64: Per nulla | C64: Raramente | D64: Spesso | E64: Del tutto | F64: Totale
B65: =SUMIF(Quest!B11:AY11,1)/1 -> 2 | C65: =SUMIF(Quest!B11:AY11,2)/2 -> 3 | D65: =SUMIF(Quest!B11:AY11,3)/3 -> 8 | E65: =SUMIF(Quest!B11:AY11,4)/4 -> 2 | F65: =SUM(B65:E65) -> 15
A87: 3.3 IL LAVORO CONSENTE DI FAR EMERGERE LE QUALITÀ PERSONALI E PROFESSIONALI DI OGNUNO?
B88: Per nulla | C88: Raramente | D88: Spesso | E88: Del tutto | F88: Totale
B89: =SUMIF(Quest!B12:AY12,1)/1 -> 3 | C89: =SUMIF(Quest!B12:AY12,2)/2 -> 6 | D89: =SUMIF(Quest!B12:AY12,3)/3 -> 3 | E89: =SUMIF(Quest!B12:AY12,4)/4 -> 3 | F89: =SUM(B89:E89) -> 15
A111: 3.4 L’IMPEGNO SUL LAVORO E LE INIZIATIVE PERSONALI SONO APPREZZATE (CON RICONOSCIMENTI ECONOMICI ETC.)?
B112: Per nulla | C112: Raramente | D112: Spesso | E112: Del tutto | F112: Totale
B113: =SUMIF(Quest!B13:AY13,1)/1 -> 6 | C113: =SUMIF(Quest!B13:AY13,2)/2 -> 3 | D113: =SUMIF(Quest!B13:AY13,3)/3 -> 4 | E113: =SUMIF(Quest!B13:AY13,4)/4 -> 2 | F113: =SUM(B113:E113) -> 15
A135: 3.5 I CRITERI CON CUI SI VALUTANO LE PERSONE SONO EQUI E TRASPARENTI?
B136: Per nulla | C136: Raramente | D136: Spesso | E136: Del tutto | F136: Totale
B137: =SUMIF(Quest!B14:AY14,1)/1 -> 3 | C137: =SUMIF(Quest!B14:AY14,2)/2 -> 5 | D137: =SUMIF(Quest!B14:AY14,3)/3 -> 5 | E137: =SUMIF(Quest!B14:AY14,4)/4 -> 0 | F137: =SUM(B137:E137) -> 13
A159: 3.6 VENGONO OFFERTE OPPORTUNITÀ DI AGGIORNAMENTO E SVILUPPO PROFESSIONALE?
B160: Per nulla | C160: Raramente | D160: Spesso | E160: Del tutto | F160: Totale
B161: =SUMIF(Quest!B15:AY15,1)/1 -> 3 | C161: =SUMIF(Quest!B15:AY15,2)/2 -> 5 | D161: =SUMIF(Quest!B15:AY15,3)/3 -> 5 | E161: =SUMIF(Quest!B15:AY15,4)/4 -> 2 | F161: =SUM(B161:E161) -> 15
A183: 3.7 GLI INCENTIVI ECONOMICI SONO DISTRIBUITI SULLA BASE DELL’EFFICACIA DELLE PRESTAZIONI?
B184: Per nulla | C184: Raramente | D184: Spesso | E184: Del tutto | F184: Totale
B185: =SUMIF(Quest!B16:AY16,1)/1 -> 3 | C185: =SUMIF(Quest!B16:AY16,2)/2 -> 8 | D185: =SUMIF(Quest!B16:AY16,3)/3 -> 4 | E185: =SUMIF(Quest!B16:AY16,4)/4 -> 0 | F185: =SUM(B185:E185) -> 15
A207: SE RISPONDE PER NULLA, QUALI SONO A SUO GIUDIZIO GLI ASPETTI DA MIGLIORARE NELA DISTRIBUZIONE DEGLI INCENTIVI ECONOMICI
A209: R: DISPONIBILITà OPERAI/LIVELLI/INCENTIVI
A211: 4.1 IN CHE MISURA PERCEPISCE QUANTO SEGUE NEL SUO AMBIENTE DI LAVORO?
B212: Per nulla | C212: Raramente | D212: A volte | E212: Del tutto | F212: Totale
A213: Soddisfazione per la propria organizzazione | B213: =SUMIF(Quest!B17:AY17,1)/1 -> 1 | C213: =SUMIF(Quest!B17:AY17,2)/2 -> 3 | D213: =SUMIF(Quest!B17:AY17,3)/3 -> 7 | E213: =SUMIF(Quest!B17:AY17,4)/4 -> 2 | F213: =SUM(B213:E213) -> 13
A214: Voglia di impegnare nuove energie per l’organizzazione | B214: =SUMIF(Quest!B18:AY18,1)/1 -> 2 | C214: =SUMIF(Quest!B18:AY18,2)/2 -> 2 | D214: =SUMIF(Quest!B18:AY18,3)/3 -> 8 | E214: =SUMIF(Quest!B18:AY18,4)/4 -> 2 | F214: =SUM(B214:E214) -> 14
A215: Sensazione di far parte di una squadra | B215: =SUMIF(Quest!B19:AY19,1)/1 -> 2 | C215: =SUMIF(Quest!B19:AY19,2)/2 -> 5 | D215: =SUMIF(Quest!B19:AY19,3)/3 -> 4 | E215: =SUMIF(Quest!B19:AY19,4)/4 -> 4 | F215: =SUM(B215:E215) -> 15
A216: Sensazione di realizzazione personale attraverso il lavoro | B216: =SUMIF(Quest!B20:AY20,1)/1 -> 2 | C216: =SUMIF(Quest!B20:AY20,2)/2 -> 3 | D216: =SUMIF(Quest!B20:AY20,3)/3 -> 7 | E216: =SUMIF(Quest!B20:AY20,4)/4 -> 3 | F216: =SUM(B216:E216) -> 15
A217: Percezione che il lavoro dell’organizzazione sia apprezzato all’esterno | B217: =SUMIF(Quest!B21:AY21,1)/1 -> 4 | C217: =SUMIF(Quest!B21:AY21,2)/2 -> 7 | D217: =SUMIF(Quest!B21:AY21,3)/3 -> 2 | E217: =SUMIF(Quest!B21:AY21,4)/4 -> 2 | F217: =SUM(B217:E217) -> 15
A240: 4.2 IN CHE MISURA PERCEPISCE QUANTO SEGUE NEL SUO AMBIENTE DI LAVORO?
B241: Per nulla | C241: Raramente | D241: A volte | E241: Del tutto | F241: Totale
A242: Insofferenza per l’andare al lavoro | B242: =SUMIF(Quest!B22:AY22,1)/1 -> 8 | C242: =SUMIF(Quest!B22:AY22,2)/2 -> 4 | D242: =SUMIF(Quest!B22:AY22,3)/3 -> 3 | E242: =SUMIF(Quest!B22:AY22,4)/4 -> 0 | F242: =SUM(B242:E242) -> 15
A243: Disinteresse per il lavoro | B243: =SUMIF(Quest!B23:AY23,1)/1 -> 9 | C243: =SUMIF(Quest!B23:AY23,2)/2 -> 2 | D243: =SUMIF(Quest!B23:AY23,3)/3 -> 4 | E243: =SUMIF(Quest!B23:AY23,4)/4 -> 0 | F243: =SUM(B243:E243) -> 15
A244: Desiderio di cambiare lavoro | B244: =SUMIF(Quest!B24:AY24,1)/1 -> 5 | C244: =SUMIF(Quest!B24:AY24,2)/2 -> 4 | D244: =SUMIF(Quest!B24:AY24,3)/3 -> 3 | E244: =SUMIF(Quest!B24:AY24,4)/4 -> 2 | F244: =SUM(B244:E244) -> 14
A245: Pettegolezzo | B245: =SUMIF(Quest!B25:AY25,1)/1 -> 8 | C245: =SUMIF(Quest!B25:AY25,2)/2 -> 2 | D245: =SUMIF(Quest!B25:AY25,3)/3 -> 2 | E245: =SUMIF(Quest!B25:AY25,4)/4 -> 2 | F245: =SUM(B245:E245) -> 14
A246: Sensazione di fare cose inutili | B246: =SUMIF(Quest!B26:AY26,1)/1 -> 5 | C246: =SUMIF(Quest!B26:AY26,2)/2 -> 3 | D246: =SUMIF(Quest!B26:AY26,3)/3 -> 5 | E246: =SUMIF(Quest!B26:AY26,4)/4 -> 1 | F246: =SUM(B246:E246) -> 14
A247: Sensazione di contare poco nell’organizzazione | B247: =SUMIF(Quest!B27:AY27,1)/1 -> 3 | C247: =SUMIF(Quest!B27:AY27,2)/2 -> 6 | D247: =SUMIF(Quest!B27:AY27,3)/3 -> 3 | E247: =SUMIF(Quest!B27:AY27,4)/4 -> 2 | F247: =SUM(B247:E247) -> 14
A248: Lentezza nell’esecuzione dei compiti | B248: =SUMIF(Quest!B28:AY28,1)/1 -> 5 | C248: =SUMIF(Quest!B28:AY28,2)/2 -> 6 | D248: =SUMIF(Quest!B28:AY28,3)/3 -> 2 | E248: =SUMIF(Quest!B28:AY28,4)/4 -> 1 | F248: =SUM(B248:E248) -> 14
A249: Sensazione di lavorare meccanicamente, senza coinvolgimento | B249: =SUMIF(Quest!B29:AY29,1)/1 -> 7 | C249: =SUMIF(Quest!B29:AY29,2)/2 -> 4 | D249: =SUMIF(Quest!B29:AY29,3)/3 -> 2 | E249: =SUMIF(Quest!B29:AY29,4)/4 -> 0 | F249: =SUM(B249:E249) -> 13
A275: 4.3 CON QUALE FREQUENZA NEL SUO ENTE SI VERIFICANO LE SITUAZIONI DI SEGUITO DESCRITTE?
B276: Per nulla | C276: Raramente | D276: Spesso | E276: Del tutto | F276: Totale
A277: Esiste collaborazione tra i colleghi | B277: =SUMIF(Quest!B30:AY30,1)/1 -> 0 | C277: =SUMIF(Quest!B30:AY30,2)/2 -> 3 | D277: =SUMIF(Quest!B30:AY30,3)/3 -> 11 | E277: =SUMIF(Quest!B30:AY30,4)/4 -> 0 | F277: =SUM(B277:E277) -> 14
A278: Disponibilità dei dipendenti ad andare incontro alle esigenze dell'Ente | B278: =SUMIF(Quest!B31:AY31,1)/1 -> 0 | C278: =SUMIF(Quest!B31:AY31,2)/2 -> 1 | D278: =SUMIF(Quest!B31:AY31,3)/3 -> 9 | E278: =SUMIF(Quest!B31:AY31,4)/4 -> 4 | F278: =SUM(B278:E278) -> 14
A279: E' facile avere le informazioni di cui si ha bisogno | B279: =SUMIF(Quest!B32:AY32,1)/1 -> 1 | C279: =SUMIF(Quest!B32:AY32,2)/2 -> 3 | D279: =SUMIF(Quest!B32:AY32,3)/3 -> 9 | E279: =SUMIF(Quest!B32:AY32,4)/4 -> 1 | F279: =SUM(B279:E279) -> 14
A280: Le posizioni amministrative trattano i dipendenti in maniera equa | B280: =SUMIF(Quest!B33:AY33,1)/1 -> 2 | C280: =SUMIF(Quest!B33:AY33,2)/2 -> 4 | D280: =SUMIF(Quest!B33:AY33,3)/3 -> 5 | E280: =SUMIF(Quest!B33:AY33,4)/4 -> 3 | F280: =SUM(B280:E280) -> 14
A281: Quando si ha bisogno di informazioni si sa a chi chiederle | B281: =SUMIF(Quest!B34:AY34,1)/1 -> 0 | C281: =SUMIF(Quest!B34:AY34,2)/2 -> 1 | D281: =SUMIF(Quest!B34:AY34,3)/3 -> 10 | E281: =SUMIF(Quest!B34:AY34,4)/4 -> 2 | F281: =SUM(B281:E281) -> 13
A282: Esistono scambi di comunicazione tra i diversi gruppi di lavoro | B282: =SUMIF(Quest!B35:AY35,1)/1 -> 0 | C282: =SUMIF(Quest!B35:AY35,2)/2 -> 2 | D282: =SUMIF(Quest!B35:AY35,3)/3 -> 10 | E282: =SUMIF(Quest!B35:AY35,4)/4 -> 1 | F282: =SUM(B282:E282) -> 13
A308: 4.4 CON QUALE FREQUENZA NEL SUO ENTE SI VERIFICANO LE SITUAZIONI DI SEGUITO DESCRITTE?
B309: Per nulla | C309: Raramente | D309: Spesso | E309: Del tutto | F309: Totale
A310: Equità del carico di lavoro | B310: =SUMIF(Quest!B36:AY36,1)/1 -> 3 | C310: =SUMIF(Quest!B36:AY36,2)/2 -> 6 | D310: =SUMIF(Quest!B36:AY36,3)/3 -> 5 | E310: =SUMIF(Quest!B36:AY36,4)/4 -> 0 | F310: =SUM(B310:E310) -> 14
A311: Equità nelle responsabilità | B311: =SUMIF(Quest!B37:AY37,1)/1 -> 1 | C311: =SUMIF(Quest!B37:AY37,2)/2 -> 1 | D311: =SUMIF(Quest!B37:AY37,3)/3 -> 10 | E311: =SUMIF(Quest!B37:AY37,4)/4 -> 2 | F311: =SUM(B311:E311) -> 14
A312: Adeguato rapporto tra impegno e retribuzione | B312: =SUMIF(Quest!B38:AY38,1)/1 -> 7 | C312: =SUMIF(Quest!B38:AY38,2)/2 -> 4 | D312: =SUMIF(Quest!B38:AY38,3)/3 -> 3 | E312: =SUMIF(Quest!B38:AY38,4)/4 -> 0 | F312: =SUM(B312:E312) -> 14
A313: Equilibrato il modo in cui la retribuzione viene differenziata in rapporto alla quantità e qualità del lavoro svolto | B313: =SUMIF(Quest!B39:AY39,1)/1 -> 4 | C313: =SUMIF(Quest!B39:AY39,2)/2 -> 9 | D313: =SUMIF(Quest!B39:AY39,3)/3 -> 1 | E313: =SUMIF(Quest!B39:AY39,4)/4 -> 0 | F313: =SUM(B313:E313) -> 14
A314: Le decisioni riguardanti il lavoro sono prese dal mio responsabile in modo imparziale | B314: =SUMIF(Quest!B40:AY40,1)/1 -> 0 | C314: =SUMIF(Quest!B40:AY40,2)/2 -> 3 | D314: =SUMIF(Quest!B40:AY40,3)/3 -> 4 | E314: =SUMIF(Quest!B40:AY40,4)/4 -> 7 | F314: =SUM(B314:E314) -> 14
A340: 4.5 CON QUALE FREQUENZA NEL SUO ENTE SI VERIFICANO LE SITUAZIONI DI SEGUITO DESCRITTE?
B341: Per nulla | C341: Raramente | D341: Spesso | E341: Del tutto | F341: Totale
A342: Sono sufficientemente coinvolto nel definire gli obiettivi e i risultati attesi dal mio lavoro | B342: =SUMIF(Quest!B41:AY41,1)/1 -> 1 | C342: =SUMIF(Quest!B41:AY41,2)/2 -> 4 | D342: =SUMIF(Quest!B41:AY41,3)/3 -> 7 | E342: =SUMIF(Quest!B41:AY41,4)/4 -> 2 | F342: =SUM(B342:E342) -> 14
A343: Sono adeguatamente tutelato se non sono d’accordo con il mio valutatore sulla valutazione della mia performance | B343: =SUMIF(Quest!B42:AY42,1)/1 -> 2 | C343: =SUMIF(Quest!B42:AY42,2)/2 -> 4 | D343: =SUMIF(Quest!B42:AY42,3)/3 -> 5 | E343: =SUMIF(Quest!B42:AY42,4)/4 -> 2 | F343: =SUM(B343:E343) -> 13
A344: I risultati della valutazione mi aiutano veramente a migliorare la mia performance | B344: =SUMIF(Quest!B43:AY43,1)/1 -> 1 | C344: =SUMIF(Quest!B43:AY43,2)/2 -> 7 | D344: =SUMIF(Quest!B43:AY43,3)/3 -> 5 | E344: =SUMIF(Quest!B43:AY43,4)/4 -> 0 | F344: =SUM(B344:E344) -> 13
A345: La mia amministrazione premia le persone capaci e che si impegnano | B345: =SUMIF(Quest!B44:AY44,1)/1 -> 2 | C345: =SUMIF(Quest!B44:AY44,2)/2 -> 6 | D345: =SUMIF(Quest!B44:AY44,3)/3 -> 3 | E345: =SUMIF(Quest!B44:AY44,4)/4 -> 2 | F345: =SUM(B345:E345) -> 13
A346: Il sistema di misurazione e valutazione della performance è stato adeguatamente illustrato al personale considera adeguato | B346: =SUMIF(Quest!B45:AY45,1)/1 -> 3 | C346: =SUMIF(Quest!B45:AY45,2)/2 -> 6 | D346: =SUMIF(Quest!B45:AY45,3)/3 -> 4 | E346: =SUMIF(Quest!B45:AY45,4)/4 -> 0 | F346: =SUM(B346:E346) -> 13
A347: Il sistema di misurazione e valutazione per la valorizzazione della sua attivita’ | B347: =SUMIF(Quest!B46:AY46,1)/1 -> 4 | C347: =SUMIF(Quest!B46:AY46,2)/2 -> 5 | D347: =SUMIF(Quest!B46:AY46,3)/3 -> 4 | E347: =SUMIF(Quest!B46:AY46,4)/4 -> 1 | F347: =SUM(B347:E347) -> 14
A348: Esistono dei momenti di confronto con colleghi e responsabili per discutere sull’andamento e gli obiettivi da raggiungere | B348: =SUMIF(Quest!B47:AY47,1)/1 -> 3 | C348: =SUMIF(Quest!B47:AY47,2)/2 -> 4 | D348: =SUMIF(Quest!B47:AY47,3)/3 -> 6 | E348: =SUMIF(Quest!B47:AY47,4)/4 -> 0 | F348: =SUM(B348:E348) -> 13
A374: 4.6 SE RITIENE NON SUFFICIENTEMENTE VALORIZZATO IL PERSONALE QUALI MODIFICHE APPORTEREBBE AL SISTEMA DI VALUTAZIONE?
A376: R. Più riunioni, più coinvlgimento del personale operaio
A377: R. Più riunioni
A389: 5. PRIORITÀ DA MIGLIORARE NELL'ENTE
A390: 1 | B390: Spazi e confort adeguati dell’ambiente di lavoro | E390: =SUMIF(Quest!$B$48:$AY$50,Risultati!A390)/Risultati!A390 -> 1
A391: 2 | B391: La sicurezzadell’ambiente di lavoro | E391: =SUMIF(Quest!$B$48:$AY$50,Risultati!A391)/Risultati!A391 -> 3
A392: 3 | B392: La sicurezza delle attrezzature di lavoro | E392: =SUMIF(Quest!$B$48:$AY$50,Risultati!A392)/Risultati!A392 -> 0
A393: 4 | B393: La circolazione delle informazioni | E393: =SUMIF(Quest!$B$48:$AY$50,Risultati!A393)/Risultati!A393 -> 1
A394: 5 | B394: ⃝ La chiarezza delle informazioni | E394: =SUMIF(Quest!$B$48:$AY$50,Risultati!A394)/Risultati!A394 -> 1
A395: 6 | B395: ⃝ I rapporti tra colleghi | E395: =SUMIF(Quest!$B$48:$AY$50,Risultati!A395)/Risultati!A395 -> 0
A396: 7 | B396: ⃝ I rapporti con i superiori | E396: =SUMIF(Quest!$B$48:$AY$50,Risultati!A396)/Risultati!A396 -> 1
A397: 8 | B397: ⃝ I rapporti tra i diversi Settori | E397: =SUMIF(Quest!$B$48:$AY$50,Risultati!A397)/Risultati!A397 -> 1
A398: 9 | B398: ⃝ I supporti informatici e tecnologici | E398: =SUMIF(Quest!$B$48:$AY$50,Risultati!A398)/Risultati!A398 -> 1
A399: 10 | B399: ⃝ La flessibilità dell’orario di lavoro | E399: =SUMIF(Quest!$B$48:$AY$50,Risultati!A399)/Risultati!A399 -> 3
A400: 11 | B400: ⃝ La chiarezza degli obiettivi e dei compiti | E400: =SUMIF(Quest!$B$48:$AY$50,Risultati!A400)/Risultati!A400 -> 0
A401: 12 | B401: ⃝ I rapporti tra colleghi | E401: =SUMIF(Quest!$B$48:$AY$50,Risultati!A401)/Risultati!A401 -> 1
... A412: 23 | B412: ⃝ Altro (specificare) | E412: =SUMIF(Quest!$B$48:$AY$50,Risultati!A412)/Risultati!A412 -> 0
A414: Altro

Sheet Quest
A1: Quest. Nr | B1: 1 | C1: 2 | D1: 3 | E1: 4 | F1: 5 | G1: 6 | H1: 7 | I1: 8 | J1: 9 | K1: 10 | L1: 11 | M1: 12 | N1: 13 | O1: 14 | P1: 15 | Q1: 16 | R1: 17 | S1: 18 | T1: 19 | U1: 20 | V1: 21 | W1: 22 | X1: 23 | Y1: 24 | Z1: 25 | AA1: 26 | AB1: 27 | AC1: 28 | AD1: 29 | AE1: 30 | AF1: 31 | AG1: 32 | AH1: 33 | AI1: 34 | AJ1: 35 | AK1: 36 | AL1: 37 | AM1: 38 | AN1: 39 | AO1: 40 | AP1: 41 | AQ1: 42 | AR1: 43 | AS1: 44 | AT1: 45 | AU1: 46 | AV1: 47 | AW1: 48 | AX1: 49 | AY1: 50
A2: 2.11 | B2: 2 | C2: 3 | D2: 3 | E2: 2 | F2: 3 | G2: 3 | H2: 3 | I2: 2 | J2: 2 | K2: 4 | L2: 4 | M2: 2 | N2: 3 | O2: 4 | P2: 3
A3: 2.12 | B3: 4 | C3: 3 | D3: 4 | E3: 3 | F3: 2 | G3: 3 | H3: 3 | I3: 3 | J3: 3 | K3: 4 | L3: 4 | M3: 4 | N3: 4 | O3: 3 | P3: 3
A4: 2.13 | B4: 3 | C4: 3 | D4: 3 | E4: 2 | F4: 2 | G4: 3 | H4: 3 | I4: 1 | J4: 1 | K4: 3 | L4: 3 | M4: 3 | N4: 2 | O4: 3 | P4: 3
A5: 2.14 | B5: 4 | D5: 4 | E5: 3 | F5: 2 | G5: 3 | H5: 3 | I5: 3 | J5: 3 | K5: 4 | L5: 4 | M5: 3 | N5: 3 | O5: 3 | P5: 3
A6: 2.15 | B6: 2 | C6: 2 | D6: 3 | E6: 2 | F6: 2 | G6: 3 | H6: 3 | I6: 2 | J6: 2 | K6: 3 | L6: 3 | M6: 1 | N6: 3 | O6: 3 | P6: 2
A7: 2.16 | B7: 3 | C7: 3 | D7: 4 | E7: 2 | F7: 2 | G7: 3 | H7: 3 | I7: 3 | J7: 4 | K7: 3 | L7: 3 | M7: 2 | N7: 3 | O7: 2 | P7: 2
A8: 2.17 | B8: 4 | C8: 3 | D8: 4 | E8: 2 | F8: 2 | G8: 3 | H8: 3 | I8: 4 | J8: 4 | K8: 4 | L8: 4 | M8: 4 | N8: 3 | O8: 2 | P8: 2
A9: 2.18 | B9: 4 | C9: 2 | D9: 4 | E9: 3 | F9: 2 | G9: 2 | H9: 3 | I9: 4 | J9: 4 | K9: 4 | L9: 4 | M9: 3 | N9: 3 | O9: 1 | P9: 2
A10: 3.1 | B10: 3 | C10: 1 | D10: 3 | E10: 2 | F10: 2 | G10: 3 | H10: 3 | I10: 1 | J10: 2 | K10: 4 | L10: 4 | M10: 3 | N10: 3 | O10: 1 | P10: 2
A11: 3.2 | B11: 3 | C11: 1 | D11: 3 | E11: 2 | F11: 2 | G11: 3 | H11: 3 | I11: 3 | J11: 3 | K11: 4 | L11: 4 | M11: 3 | N11: 3 | O11: 1 | P11: 2
A12: 3.3 | B12: 3 | C12: 1 | D12: 2 | E12: 2 | F12: 2 | G12: 3 | H12: 2 | I12: 2 | J12: 1 | K12: 4 | L12: 4 | M12: 3 | N12: 4 | O12: 1 | P12: 2
A13: 3.4 | B13: 3 | C13: 1 | D13: 1 | E13: 1 | F13: 2 | G13: 2 | H13: 3 | I13: 1 | J13: 1 | K13: 4 | L13: 4 | M13: 3 | N13: 3 | O13: 1 | P13: 2
A14: 3.5 | B14: 3 | C14: 1 | D14: 2 | F14: 2 | G14: 3 | I14: 1 | J14: 2 | K14: 3 | L14: 3 | M14: 3 | N14: 2 | O14: 1 | P14: 2
A15: 3.6 | B15: 3 | C15: 1 | D15: 1 | E15: 3 | F15: 2 | G15: 3 | H15: 2 | I15: 2 | J15: 2 | K15: 4 | L15: 4 | M15: 3 | N15: 3 | O15: 1 | P15: 2
A16: 3.7 | B16: 2 | C16: 1 | D16: 1 | E16: 2 | F16: 2 | G16: 3 | H16: 2 | I16: 3 | J16: 3 | K16: 2 | L16: 2 | M16: 3 | N16: 2 | O16: 1 | P16: 2
A17: 4.11 | B17: 3 | D17: 3 | E17: 2 | G17: 3 | H17: 3 | I17: 3 | J17: 3 | K17: 4 | L17: 4 | M17: 2 | N17: 3 | O17: 1 | P17: 2
A18: 4.12 | B18: 3 | C18: 1 | E18: 2 | F18: 3 | G18: 3 | H18: 3 | I18: 3 | J18: 3 | K18: 4 | L18: 4 | M18: 3 | N18: 3 | O18: 1 | P18: 2
A19: 4.13 | B19: 3 | C19: 1 | D19: 2 | E19: 2 | F19: 3 | G19: 4 | H19: 3 | I19: 2 | J19: 3 | K19: 4 | L19: 4 | M19: 2 | N19: 4 | O19: 1 | P19: 2
A20: 4.14 | B20: 3 | C20: 1 | D20: 3 | E20: 2 | F20: 3 | G20: 3 | H20: 3 | I20: 3 | J20: 4 | K20: 4 | L20: 4 | M20: 2 | N20: 3 | O20: 1 | P20: 2
A21: 4.15 | B21: 3 | C21: 1 | D21: 1 | E21: 1 | F21: 3 | G21: 2 | H21: 2 | I21: 2 | J21: 2 | K21: 4 | L21: 4 | M21: 1 | N21: 2 | O21: 2 | P21: 2
A22: 4.21 | B22: 3 | C22: 3 | D22: 1 | E22: 2 | F22: 1 | G22: 1 | H22: 3 | I22: 1 | J22: 1 | K22: 1 | L22: 1 | M22: 2 | N22: 1 | O22: 2 | P22: 2
A23: 4.22 | B23: 3 | C23: 3 | D23: 1 | E23: 2 | F23: 1 | G23: 1 | H23: 3 | I23: 1 | J23: 1 | K23: 1 | L23: 1 | M23: 1 | N23: 1 | O23: 3 | P23: 2
A24: 4.23 | B24: 3 | C24: 1 | D24: 1 | E24: 4 | F24: 1 | G24: 2 | I24: 2 | J24: 2 | K24: 1 | L24: 1 | M24: 3 | N24: 2 | O24: 4 | P24: 3
A25: 4.24 | B25: 3 | C25: 4 | D25: 1 | E25: 2 | F25: 1 | G25: 1 | I25: 2 | J25: 1 | K25: 1 | L25: 1 | M25: 1 | N25: 1 | O25: 4 | P25: 3
A26: 4.25 | B26: 3 | C26: 1 | D26: 1 | E26: 3 | F26: 1 | G26: 3 | I26: 2 | J26: 2 | K26: 1 | L26: 1 | M26: 3 | N26: 2 | O26: 4 | P26: 3
A27: 4.26 | B27: 3 | C27: 1 | D27: 3 | E27: 2 | F27: 2 | G27: 2 | I27: 4 | J27: 2 | K27: 1 | L27: 1 | M27: 2 | N27: 2 | O27: 4 | P27: 3
A28: 4.27 | B28: 3 | C28: 4 | D28: 1 | E28: 2 | F28: 1 | G28: 1 | I28: 2 | J28: 2 | K28: 1 | L28: 1 | M28: 2 | N28: 2 | O28: 3 | P28: 2
A29: 4.28 | B29: 3 | C29: 2 | D29: 1 | E29: 2 | F29: 2 | G29: 1 | I29: 1 | J29: 1 | K29: 1 | L29: 1 | M29: 2 | N29: 1 | O29: 3
A30: 4.31 | B30: 3 | D30: 2 | E30: 2 | F30: 3 | G30: 3 | H30: 3 | I30: 3 | J30: 3 | K30: 3 | L30: 3 | M30: 2 | N30: 3 | O30: 3 | P30: 3
A31: 4.32 | B31: 3 | D31: 3 | E31: 2 | F31: 3 | G31: 3 | H31: 3 | I31: 4 | J31: 4 | K31: 3 | L31: 3 | M31: 3 | N31: 3 | O31: 4 | P31: 4
A32: 4.33 | B32: 3 | D32: 2 | E32: 2 | F32: 3 | G32: 4 | H32: 3 | I32: 3 | J32: 3 | K32: 3 | L32: 3 | M32: 3 | N32: 3 | O32: 1 | P32: 2
A33: 4.34 | B33: 3 | D33: 3 | E33: 3 | F33: 3 | G33: 4 | H33: 2 | I33: 1 | J33: 2 | K33: 4 | L33: 4 | M33: 3 | N33: 2 | O33: 1 | P33: 2
A34: 4.35 | B34: 3 | D34: 3 | E34: 2 | F34: 3 | G34: 3 | H34: 3 | I34: 4 | J34: 4 | K34: 3 | L34: 3 | N34: 3 | O34: 3 | P34: 3
A35: 4.36 | B35: 3 | D35: 2 | E35: 2 | F35: 3 | G35: 3 | H35: 3 | I35: 3 | J35: 4 | K35: 3 | L35: 3 | N35: 3 | O35: 3 | P35: 3
A36: 4.41 | B36: 2 | D36: 2 | E36: 1 | F36: 3 | G36: 2 | H36: 3 | I36: 3 | J36: 1 | K36: 3 | L36: 3 | M36: 2 | N36: 2 | O36: 1 | P36: 2
A37: 4.42 | B37: 3 | D37: 3 | E37: 1 | F37: 3 | G37: 3 | H37: 3 | I37: 3 | J37: 3 | K37: 4 | L37: 4 | M37: 3 | N37: 2 | O37: 3 | P37: 3
A38: 4.43 | B38: 2 | D38: 1 | E38: 1 | F38: 3 | G38: 2 | H38: 1 | I38: 1 | J38: 1 | K38: 2 | L38: 2 | M38: 3 | N38: 3 | O38: 1 | P38: 1
A39: 4.44 | B39: 2 | D39: 1 | E39: 1 | F39: 3 | G39: 2 | H39: 2 | I39: 1 | J39: 1 | K39: 2 | L39: 2 | M39: 2 | N39: 2 | O39: 2 | P39: 2
A40: 4.45 | B40: 3 | D40: 3 | E40: 2 | F40: 3 | G40: 4 | H40: 3 | I40: 4 | J40: 4 | K40: 4 | L40: 4 | M40: 4 | N40: 4 | O40: 2 | P40: 2
A41: 4.51 | B41: 3 | D41: 2 | E41: 2 | F41: 3 | G41: 3 | H41: 3 | I41: 1 | J41: 3 | K41: 4 | L41: 4 | M41: 3 | N41: 3 | O41: 2 | P41: 2
A42: 4.52 | B42: 3 | D42: 1 | E42: 2 | F42: 3 | G42: 3 | I42: 1 | J42: 2 | K42: 4 | L42: 4 | M42: 3 | N42: 3 | O42: 2 | P42: 2
A43: 4.53 | B43: 2 | D43: 2 | E43: 2 | F43: 3 | G43: 3 | I43: 1 | J43: 3 | K43: 3 | L43: 3 | M43: 2 | N43: 2 | O43: 2 | P43: 2
A44: 4.54 | B44: 2 | D44: 2 | E44: 2 | F44: 3 | G44: 3 | I44: 3 | J44: 1 | K44: 4 | L44: 4 | M44: 2 | N44: 2 | O44: 1 | P44: 2
A45: 4.55 | B45: 2 | D45: 2 | E45: 2 | F45: 3 | G45: 3 | I45: 1 | J45: 2 | K45: 3 | L45: 3 | M45: 2 | N45: 1 | O45: 1 | P45: 2
A46: 4.56 | B46: 3 | D46: 1 | E46: 2 | F46: 3 | G46: 4 | H46: 1 | I46: 2 | J46: 2 | K46: 3 | L46: 3 | M46: 2 | N46: 1 | O46: 1 | P46: 2
A47: 4.57 | B47: 2 | D47: 1 | E47: 2 | F47: 3 | G47: 3 | H47: 2 | I47: 3 | J47: 3 | K47: 3 | L47: 3 | M47: 2 | N47: 1 | O47: 1
A48: 5.11 | B48: 4 | D48: 14 | E48: 5 | F48: 14 | G48: 18 | I48: 13 | J48: 16 | K48: 10 | L48: 10 | M48: 8 | N48: 2
A49: 5.12 | B49: 9 | D49: 20 | E49: 10 | F49: 2 | G49: 15 | I49: 2 | J49: 14 | K49: 14 | L49: 14 | M49: 13 | N49: 7
A50: 5.13 | B50: 13 | D50: 15 | E50: 20 | F50: 1 | G50: 20 | I50: 15 | J50: 12 | K50: 13 | L50: 13 | M50: 15
