Workbook

Sheet TABELLE
A1: QUESTIONARIO BENESSERE ORGANIZZATIVO 2025 - Risultati valutazione
A2: Comune di Arsiè
A4: consegnati | B4: 15
A5: restituiti | B5: 15
A6: mancanti | B6: 0
B8: MAI | C8: RARAMENTE | D8: QUALCHE VOLTA | E8: SPESSO | F8: SEMPRE | G8: NON RISPONDE | H8: TOTALE | J8: MAI | K8: RARAMENTE | L8: QUALCHE VOLTA | M8: SPESSO | N8: SEMPRE | O8: NON RISPONDE
A9: 1. NEL TUO ENTE TI SENTI SOGGETTO A COMPORTAMENTI/ATTEGGIAMENTI OSTILI DA PARTE DEI TUOI COLLEGHI? | B9: 9 | C9: 1 | D9: 5 | E9: 0 | F9: 0 | G9: 0 | H9: =SUM(B9:G9) -> 15 | J9: 0.6 | K9: 0.066666667 | L9: 0.33333333 | M9: 0 | N9: 0 | O9: 0
A10: 2. NEL TUO LAVORO HAI DELLE SCADENZE/ADEMPIMENTI DIFFICILMENTE RAGGIUNGIBILI NEL TEMPO DI LAVORO A DISPOSIZIONE? | B10: 4 | C10: 2 | D10: 4 | E10: 2 | F10: 2 | G10: 1 | H10: =SUM(B10:G10) -> 15 | J10: 0.26666667 | K10: 0.13333333 | L10: 0.26666667 | M10: 0.13333333 | N10: 0.13333333 | O10: 0.066666667
A11: 3. IL TUO IMPEGNO SUL LAVORO E LE TUE INIZIATIVE PERSONALI SONO APPREZZATE (CON RICONOSCIMENTI ANCHE VERBALI OVVERO SULLA VALUTAZIONE ANNUALE)? | B11: 4 | C11: 4 | D11: 6 | E11: 0 | F11: 0 | G11: 1 | H11: =SUM(B11:G11) -> 15 | J11: 0.26666667 | K11: 0.26666667 | L11: 0.4 | M11: 0 | N11: 0 | O11: 0.066666667
A12: 4. DEVI LAVORARE MOLTO INTENSAMENTE PER GARANTIRE LO SVOLGIMENTO DEI COMPITI A TE ASSEGNATI? | B12: 0 | C12: 1 | D12: 6 | E12: 2 | F12: 5 | G12: 1 | H12: =SUM(B12:G12) -> 15 | J12: 0 | K12: 0.066666667 | L12: 0.4 | M12: 0.13333333 | N12: 0.33333333 | O12: 0.066666667
A13: 5. TI VENGONO PROPOSTI CORSI DI FORMAZIONE E/O AGGIORNAMENTI PROFESSIONALI? | B13: 1 | C13: 2 | D13: 6 | E13: 5 | F13: 1 | G13: 0 | H13: =SUM(B13:G13) -> 15 | J13: 0.066666667 | K13: 0.13333333 | L13: 0.4 | M13: 0.33333333 | N13: 0.066666667 | O13: 0
A14: 6. NEL TUO ENTE PUOI DECIDERE QUANDO FARE UNA BREVE PAUSA? | B14: 0 | C14: 0 | D14: 3 | E14: 5 | F14: 7 | G14: 0 | H14: =SUM(B14:G14) -> 15 | J14: 0 | K14: 0 | L14: 0.2 | M14: 0.33333333 | N14: 0.46666667 | O14: 0
A15: 7. SUL TUO POSTO DI LAVORO SI VERIFICANO ATTRITI/CONFLITTI TRA COLLEGHI? | B15: 2 | C15: 9 | D15: 3 | E15: 1 | F15: 0 | G15: 0 | H15: =SUM(B15:G15) -> 15 | J15: 0.13333333 | K15: 0.6 | L15: 0.2 | M15: 0.066666667 | N15: 0 | O15: 0
A16: 8. RITIENI DI AVERE “TEMPI MORTI” OVVERO MANSIONI INSUFFICIENTI A COPRIRE IL TUO ORARIO DI SERVIZIO? | B16: 11 | C16: 3 | D16: 1 | E16: 0 | F16: 0 | G16: 0 | H16: =SUM(B16:G16) -> 15 | J16: 0.73333333 | K16: 0.2 | L16: 0.066666667 | M16: 0 | N16: 0 | O16: 0
A17: 9. SVOLGI MANSIONI A TUO PARERE NON ADEGUATI ALLA TUA COMPETENZA/PROFESSIONALITÀ? | B17: 1 | C17: 6 | D17: 3 | E17: 4 | F17: 1 | G17: 0 | H17: =SUM(B17:G17) -> 15 | J17: 0.066666667 | K17: 0.4 | L17: 0.2 | M17: 0.26666667 | N17: 0.066666667 | O17: 0
A18: 10. NEL CASO TU ABBIA DEI PROBLEMI DI LAVORO PUOI CONTARE SULL’AIUTO DEL TUO RESPONSABILE O DEI COLLEGHI? | B18: 1 | C18: 1 | D18: 1 | E18: 8 | F18: 4 | G18: 0 | H18: =SUM(B18:G18) -> 15 | J18: 0.066666667 | K18: 0.066666667 | L18: 0.066666667 | M18: 0.53333333 | N18: 0.26666667 | O18: 0
A19: 11. RITIENI SUFFICIENTEMENTE CHIARE LE RICHIESTE LAVORATIVE CHE TI VENGONO RIVOLTE (IN TERMINI DI COMPITI DA SVOLGERE E OBIETTIVI DA RAGGIUNGERE)? | B19: 1 | C19: 2 | D19: 2 | E19: 6 | F19: 3 | G19: 1 | H19: =SUM(B19:G19) -> 15 | J19: 0.066666667 | K19: 0.13333333 | L19: 0.13333333 | M19: 0.4 | N19: 0.2 | O19: 0.066666667
A20: 12. IL COMFORT DELL’AMBIENTE IN CUI LAVORI (ILLUMINAZIONE, TEMPERATURA, ARREDAMENTO ECC.) È MIGLIORATO NELL’ULTIMO ANNO? | B20: 6 | C20: 0 | D20: 2 | E20: 3 | F20: 3 | G20: 1 | H20: =SUM(B20:G20) -> 15 | J20: 0.4 | K20: 0 | L20: 0.13333333 | M20: 0.2 | N20: 0.2 | O20: 0.066666667
... A29: 20. TI SENTI SODDISFATTO DEL LAVORO CHE SVOLGI? | B29: 1 | C29: 4 | D29: 2 | E29: 4 | F29: 3 | G29: 1 | H29: =SUM(B29:G29) -> 15 | J29: 0.066666667 | K29: 0.26666667 | L29: 0.13333333 | M29: 0.26666667 | N29: 0.2 | O29: 0.066666667
A32: INDICA TRE ASPETTI MIGLIORABILI NELLA TUA ORGANIZZAZIONE NEL BREVE PERIODO:
A33: Chiarire le mansioni/competenze degli uffici per evitare confusione e fraintendimenti
A34: Coesione e comunicazione tra uffici e con l'amministrazione
A35: Creazione di momenti di ascolto e confronto con i dipendenti
A36: Aumentare le paghe e dare la possibiltà dei passaggi di livello
A37: Più collaborazione tra uffici
A38: Aumentp paga
A39: Più rispetto e parità compiti lavoarativi
A40: Più organizzazione nello svolgimento del lavori

Sheet GRAFICI 1-4
B1: MAI | C1: RARAMENTE | D1: QUALCHE VOLTA | E1: SPESSO | F1: SEMPRE | G1: NON RISPONDE | H1: TOTALE
A2: domanda 1 | B2: =TABELLE!B9/$H$2 -> 0.6 | C2: =TABELLE!C9/$H$2 -> 0.066666667 | D2: =TABELLE!D9/$H$2 -> 0.33333333 | E2: =TABELLE!E9/$H$2 -> 0 | F2: =TABELLE!F9/$H$2 -> 0 | G2: =TABELLE!G9/$H$2 -> 0 | H2: =15 -> 15
B3: MAI | C3: RARAMENTE | D3: QUALCHE VOLTA | E3: SPESSO | F3: SEMPRE | G3: NON RISPONDE
A4: domanda 2 | B4: =TABELLE!B10/$H$2 -> 0.26666667 | C4: =TABELLE!C10/$H$2 -> 0.13333333 | D4: =TABELLE!D10/$H$2 -> 0.26666667 | E4: =TABELLE!E10/$H$2 -> 0.13333333 | F4: =TABELLE!F10/$H$2 -> 0.13333333 | G4: =TABELLE!G10/$H$2 -> 0.066666667 | H4: =15 -> 15
B5: MAI | C5: RARAMENTE | D5: QUALCHE VOLTA | E5: SPESSO | F5: SEMPRE | G5: NON RISPONDE
A6: domanda 3 | B6: =TABELLE!B11/$H$2 -> 0.26666667 | C6: =TABELLE!C11/$H$2 -> 0.26666667 | D6: =TABELLE!D11/$H$2 -> 0.4 | E6: =TABELLE!E11/$H$2 -> 0 | F6: =TABELLE!F11/$H$2 -> 0 | G6: =TABELLE!G11/$H$2 -> 0.066666667 | H6: =15 -> 15
B7: MAI | C7: RARAMENTE | D7: QUALCHE VOLTA | E7: SPESSO | F7: SEMPRE | G7: NON RISPONDE
A8: domanda 4 | B8: =TABELLE!B12/$H$2 -> 0 | C8: =TABELLE!C12/$H$2 -> 0.066666667 | D8: =TABELLE!D12/$H$2 -> 0.4 | E8: =TABELLE!E12/$H$2 -> 0.13333333 | F8: =TABELLE!F12/$H$2 -> 0.33333333 | G8: =TABELLE!G12/$H$2 -> 0.066666667 | H8: =15 -> 15
B9: MAI | C9: RARAMENTE | D9: QUALCHE VOLTA | E9: SPESSO | F9: SEMPRE | G9: NON RISPONDE
A10: domanda 5 | B10: =TABELLE!B13/$H$2 -> 0.066666667 | C10: =TABELLE!C13/$H$2 -> 0.13333333 | D10: =TABELLE!D13/$H$2 -> 0.4 | E10: =TABELLE!E13/$H$2 -> 0.33333333 | F10: =TABELLE!F13/$H$2 -> 0.066666667 | G10: =TABELLE!G13/$H$2 -> 0 | H10: =15 -> 15
B11: MAI | C11: RARAMENTE | D11: QUALCHE VOLTA | E11: SPESSO | F11: SEMPRE | G11: NON RISPONDE
A12: domanda 6 | B12: =TABELLE!B14/$H$2 -> 0 | C12: =TABELLE!C14/$H$2 -> 0 | D12: =TABELLE!D14/$H$2 -> 0.2 | E12: =TABELLE!E14/$H$2 -> 0.33333333 | F12: =TABELLE!F14/$H$2 -> 0.46666667 | G12: =TABELLE!G14/$H$2 -> 0 | H12: =15 -> 15
B13: MAI | C13: RARAMENTE | D13: QUALCHE VOLTA | E13: SPESSO | F13: SEMPRE | G13: NON RISPONDE
A14: domanda 7 | B14: =TABELLE!B15/$H$2 -> 0.13333333 | C14: =TABELLE!C15/$H$2 -> 0.6 | D14: =TABELLE!D15/$H$2 -> 0.2 | E14: =TABELLE!E15/$H$2 -> 0.066666667 | F14: =TABELLE!F15/$H$2 -> 0 | G14: =TABELLE!G15/$H$2 -> 0 | H14: =15 -> 15
B15: MAI | C15: RARAMENTE | D15: QUALCHE VOLTA | E15: SPESSO | F15: SEMPRE | G15: NON RISPONDE
A16: domanda 8 | B16: =TABELLE!B16/$H$2 -> 0.73333333 | C16: =TABELLE!C16/$H$2 -> 0.2 | D16: =TABELLE!D16/$H$2 -> 0.066666667 | E16: =TABELLE!E16/$H$2 -> 0 | F16: =TABELLE!F16/$H$2 -> 0 | G16: =TABELLE!G16/$H$2 -> 0 | H16: =15 -> 15
B17: MAI | C17: RARAMENTE | D17: QUALCHE VOLTA | E17: SPESSO | F17: SEMPRE | G17: NON RISPONDE
A18: domanda 9 | B18: =TABELLE!B17/$H$2 -> 0.066666667 | C18: =TABELLE!C17/$H$2 -> 0.4 | D18: =TABELLE!D17/$H$2 -> 0.2 | E18: =TABELLE!E17/$H$2 -> 0.26666667 | F18: =TABELLE!F17/$H$2 -> 0.066666667 | G18: =TABELLE!G17/$H$2 -> 0 | H18: =15 -> 15
B19: MAI | C19: RARAMENTE | D19: QUALCHE VOLTA | E19: SPESSO | F19: SEMPRE | G19: NON RISPONDE
A20: domanda 10 | B20: =TABELLE!B18/$H$2 -> 0.066666667 | C20: =TABELLE!C18/$H$2 -> 0.066666667 | D20: =TABELLE!D18/$H$2 -> 0.066666667 | E20: =TABELLE!E18/$H$2 -> 0.53333333 | F20: =TABELLE!F18/$H$2 -> 0.26666667 | G20: =TABELLE!G18/$H$2 -> 0 | H20: =15 -> 15
B21: MAI | C21: RARAMENTE | D21: QUALCHE VOLTA | E21: SPESSO | F21: SEMPRE | G21: NON RISPONDE
A22: domanda 11 | B22: =TABELLE!B19/$H$2 -> 0.066666667 | C22: =TABELLE!C19/$H$2 -> 0.13333333 | D22: =TABELLE!D19/$H$2 -> 0.13333333 | E22: =TABELLE!E19/$H$2 -> 0.4 | F22: =TABELLE!F19/$H$2 -> 0.2 | G22: =TABELLE!G19/$H$2 -> 0.066666667 | H22: =15 -> 15
B23: MAI | C23: RARAMENTE | D23: QUALCHE VOLTA | E23: SPESSO | F23: SEMPRE | G23: NON RISPONDE
A24: domanda 12 | B24: =TABELLE!B20/$H$2 -> 0.4 | C24: =TABELLE!C20/$H$2 -> 0 | D24: =TABELLE!D20/$H$2 -> 0.13333333 | E24: =TABELLE!E20/$H$2 -> 0.2 | F24: =TABELLE!F20/$H$2 -> 0.2 | G24: =TABELLE!G20/$H$2 -> 0.066666667 | H24: =15 -> 15
B25: MAI | C25: RARAMENTE | D25: QUALCHE VOLTA | E25: SPESSO | F25: SEMPRE | G25: NON RISPONDE
A26: domanda 13 | B26: =TABELLE!B21/$H$2 -> 0.33333333 | C26: =TABELLE!C21/$H$2 -> 0.066666667 | D26: =TABELLE!D21/$H$2 -> 0.4 | E26: =TABELLE!E21/$H$2 -> 0.066666667 | F26: =TABELLE!F21/$H$2 -> 0.066666667 | G26: =TABELLE!G21/$H$2 -> 0.066666667 | H26: =15 -> 15
B27: MAI | C27: RARAMENTE | D27: QUALCHE VOLTA | E27: SPESSO | F27: SEMPRE | G27: NON RISPONDE
A28: domanda 14 | B28: =TABELLE!B22/$H$2 -> 0 | C28: =TABELLE!C22/$H$2 -> 0.13333333 | D28: =TABELLE!D22/$H$2 -> 0.26666667 | E28: =TABELLE!E22/$H$2 -> 0.46666667 | F28: =TABELLE!F22/$H$2 -> 0.066666667 | G28: =TABELLE!G22/$H$2 -> 0.066666667 | H28: =15 -> 15
B29: MAI | C29: RARAMENTE | D29: QUALCHE VOLTA | E29: SPESSO | F29: SEMPRE | G29: NON RISPONDE
A30: domanda 15a | B30: =TABELLE!B23/$H$2 -> 0.26666667 | C30: =TABELLE!C23/$H$2 -> 0.2 | D30: =TABELLE!D23/$H$2 -> 0.13333333 | E30: =TABELLE!E23/$H$2 -> 0.26666667 | F30: =TABELLE!F23/$H$2 -> 0.066666667 | G30: =TABELLE!G23/$H$2 -> 0.066666667 | H30: =15 -> 15
B31: MAI | C31: RARAMENTE | D31: QUALCHE VOLTA | E31: SPESSO | F31: SEMPRE | G31: NON RISPONDE
A32: domanda 15b | B32: =TABELLE!B24/$H$2 -> 0.86666667 | C32: =TABELLE!C24/$H$2 -> 0 | D32: =TABELLE!D24/$H$2 -> 0.066666667 | E32: =TABELLE!E24/$H$2 -> 0 | F32: =TABELLE!F24/$H$2 -> 0 | G32: =TABELLE!G24/$H$2 -> 0.066666667 | H32: =15 -> 15
B33: MAI | C33: RARAMENTE | D33: QUALCHE VOLTA | E33: SPESSO | F33: SEMPRE | G33: NON RISPONDE
A34: domanda 16 | B34: =TABELLE!B25/$H$2 -> 0.6 | C34: =TABELLE!C25/$H$2 -> 0.13333333 | D34: =TABELLE!D25/$H$2 -> 0.066666667 | E34: =TABELLE!E25/$H$2 -> 0.13333333 | F34: =TABELLE!F25/$H$2 -> 0 | G34: =TABELLE!G25/$H$2 -> 0.066666667 | H34: =15 -> 15
B35: MAI | C35: RARAMENTE | D35: QUALCHE VOLTA | E35: SPESSO | F35: SEMPRE | G35: NON RISPONDE
A36: domanda 17 | B36: =TABELLE!B26/$H$2 -> 0.13333333 | C36: =TABELLE!C26/$H$2 -> 0.13333333 | D36: =TABELLE!D26/$H$2 -> 0.4 | E36: =TABELLE!E26/$H$2 -> 0.26666667 | F36: =TABELLE!F26/$H$2 -> 0 | G36: =TABELLE!G26/$H$2 -> 0.066666667 | H36: =15 -> 15
B37: MAI | C37: RARAMENTE | D37: QUALCHE VOLTA | E37: SPESSO | F37: SEMPRE | G37: NON RISPONDE
A38: domanda 18 | B38: =TABELLE!B27/$H$2 -> 0.066666667 | C38: =TABELLE!C27/$H$2 -> 0.066666667 | D38: =TABELLE!D27/$H$2 -> 0.26666667 | E38: =TABELLE!E27/$H$2 -> 0.4 | F38: =TABELLE!F27/$H$2 -> 0.13333333 | G38: =TABELLE!G27/$H$2 -> 0.066666667 | H38: =15 -> 15
B39: MAI | C39: RARAMENTE | D39: QUALCHE VOLTA | E39: SPESSO | F39: SEMPRE | G39: NON RISPONDE
A40: domanda 19 | B40: =TABELLE!B28/$H$2 -> 0.13333333 | C40: =TABELLE!C28/$H$2 -> 0.13333333 | D40: =TABELLE!D28/$H$2 -> 0.46666667 | E40: =TABELLE!E28/$H$2 -> 0.2 | F40: =TABELLE!F28/$H$2 -> 0 | G40: =TABELLE!G28/$H$2 -> 0.066666667 | H40: =15 -> 15
...

Sheet GRAFICI 5-8
B1: MAI | C1: RARAMENTE | D1: QUALCHE VOLTA | E1: SPESSO | F1: SEMPRE | G1: NON RISPONDE | H1: TOTALE
A2: domanda 1 | B2: =TABELLE!B9/$H$2 -> 0.6 | C2: =TABELLE!C9/$H$2 -> 0.066666667 | D2: =TABELLE!D9/$H$2 -> 0.33333333 | E2: =TABELLE!E9/$H$2 -> 0 | F2: =TABELLE!F9/$H$2 -> 0 | G2: =TABELLE!G9/$H$2 -> 0 | H2: =15 -> 15
B3: MAI | C3: RARAMENTE | D3: QUALCHE VOLTA | E3: SPESSO | F3: SEMPRE | G3: NON RISPONDE
A4: domanda 2 | B4: =TABELLE!B10/$H$2 -> 0.26666667 | C4: =TABELLE!C10/$H$2 -> 0.13333333 | D4: =TABELLE!D10/$H$2 -> 0.26666667 | E4: =TABELLE!E10/$H$2 -> 0.13333333 | F4: =TABELLE!F10/$H$2 -> 0.13333333 | G4: =TABELLE!G10/$H$2 -> 0.066666667 | H4: =15 -> 15
B5: MAI | C5: RARAMENTE | D5: QUALCHE VOLTA | E5: SPESSO | F5: SEMPRE | G5: NON RISPONDE
A6: domanda 3 | B6: =TABELLE!B11/$H$2 -> 0.26666667 | C6: =TABELLE!C11/$H$2 -> 0.26666667 | D6: =TABELLE!D11/$H$2 -> 0.4 | E6: =TABELLE!E11/$H$2 -> 0 | F6: =TABELLE!F11/$H$2 -> 0 | G6: =TABELLE!G11/$H$2 -> 0.066666667 | H6: =15 -> 15
B7: MAI | C7: RARAMENTE | D7: QUALCHE VOLTA | E7: SPESSO | F7: SEMPRE | G7: NON RISPONDE
A8: domanda 4 | B8: =TABELLE!B12/$H$2 -> 0 | C8: =TABELLE!C12/$H$2 -> 0.066666667 | D8: =TABELLE!D12/$H$2 -> 0.4 | E8: =TABELLE!E12/$H$2 -> 0.13333333 | F8: =TABELLE!F12/$H$2 -> 0.33333333 | G8: =TABELLE!G12/$H$2 -> 0.066666667 | H8: =15 -> 15
B9: MAI | C9: RARAMENTE | D9: QUALCHE VOLTA | E9: SPESSO | F9: SEMPRE | G9: NON RISPONDE
A10: domanda 5 | B10: =TABELLE!B13/$H$2 -> 0.066666667 | C10: =TABELLE!C13/$H$2 -> 0.13333333 | D10: =TABELLE!D13/$H$2 -> 0.4 | E10: =TABELLE!E13/$H$2 -> 0.33333333 | F10: =TABELLE!F13/$H$2 -> 0.066666667 | G10: =TABELLE!G13/$H$2 -> 0 | H10: =15 -> 15
B11: MAI | C11: RARAMENTE | D11: QUALCHE VOLTA | E11: SPESSO | F11: SEMPRE | G11: NON RISPONDE
A12: domanda 6 | B12: =TABELLE!B14/$H$2 -> 0 | C12: =TABELLE!C14/$H$2 -> 0 | D12: =TABELLE!D14/$H$2 -> 0.2 | E12: =TABELLE!E14/$H$2 -> 0.33333333 | F12: =TABELLE!F14/$H$2 -> 0.46666667 | G12: =TABELLE!G14/$H$2 -> 0 | H12: =15 -> 15
B13: MAI | C13: RARAMENTE | D13: QUALCHE VOLTA | E13: SPESSO | F13: SEMPRE | G13: NON RISPONDE
A14: domanda 7 | B14: =TABELLE!B15/$H$2 -> 0.13333333 | C14: =TABELLE!C15/$H$2 -> 0.6 | D14: =TABELLE!D15/$H$2 -> 0.2 | E14: =TABELLE!E15/$H$2 -> 0.066666667 | F14: =TABELLE!F15/$H$2 -> 0 | G14: =TABELLE!G15/$H$2 -> 0 | H14: =15 -> 15
B15: MAI | C15: RARAMENTE | D15: QUALCHE VOLTA | E15: SPESSO | F15: SEMPRE | G15: NON RISPONDE
A16: domanda 8 | B16: =TABELLE!B16/$H$2 -> 0.73333333 | C16: =TABELLE!C16/$H$2 -> 0.2 | D16: =TABELLE!D16/$H$2 -> 0.066666667 | E16: =TABELLE!E16/$H$2 -> 0 | F16: =TABELLE!F16/$H$2 -> 0 | G16: =TABELLE!G16/$H$2 -> 0 | H16: =15 -> 15
B17: MAI | C17: RARAMENTE | D17: QUALCHE VOLTA | E17: SPESSO | F17: SEMPRE | G17: NON RISPONDE
A18: domanda 9 | B18: =TABELLE!B17/$H$2 -> 0.066666667 | C18: =TABELLE!C17/$H$2 -> 0.4 | D18: =TABELLE!D17/$H$2 -> 0.2 | E18: =TABELLE!E17/$H$2 -> 0.26666667 | F18: =TABELLE!F17/$H$2 -> 0.066666667 | G18: =TABELLE!G17/$H$2 -> 0 | H18: =15 -> 15
B19: MAI | C19: RARAMENTE | D19: QUALCHE VOLTA | E19: SPESSO | F19: SEMPRE | G19: NON RISPONDE
A20: domanda 10 | B20: =TABELLE!B18/$H$2 -> 0.066666667 | C20: =TABELLE!C18/$H$2 -> 0.066666667 | D20: =TABELLE!D18/$H$2 -> 0.066666667 | E20: =TABELLE!E18/$H$2 -> 0.53333333 | F20: =TABELLE!F18/$H$2 -> 0.26666667 | G20: =TABELLE!G18/$H$2 -> 0 | H20: =15 -> 15
B21: MAI | C21: RARAMENTE | D21: QUALCHE VOLTA | E21: SPESSO | F21: SEMPRE | G21: NON RISPONDE
A22: domanda 11 | B22: =TABELLE!B19/$H$2 -> 0.066666667 | C22: =TABELLE!C19/$H$2 -> 0.13333333 | D22: =TABELLE!D19/$H$2 -> 0.13333333 | E22: =TABELLE!E19/$H$2 -> 0.4 | F22: =TABELLE!F19/$H$2 -> 0.2 | G22: =TABELLE!G19/$H$2 -> 0.066666667 | H22: =15 -> 15
B23: MAI | C23: RARAMENTE | D23: QUALCHE VOLTA | E23: SPESSO | F23: SEMPRE | G23: NON RISPONDE
A24: domanda 12 | B24: =TABELLE!B20/$H$2 -> 0.4 | C24: =TABELLE!C20/$H$2 -> 0 | D24: =TABELLE!D20/$H$2 -> 0.13333333 | E24: =TABELLE!E20/$H$2 -> 0.2 | F24: =TABELLE!F20/$H$2 -> 0.2 | G24: =TABELLE!G20/$H$2 -> 0.066666667 | H24: =15 -> 15
B25: MAI | C25: RARAMENTE | D25: QUALCHE VOLTA | E25: SPESSO | F25: SEMPRE | G25: NON RISPONDE
A26: domanda 13 | B26: =TABELLE!B21/$H$2 -> 0.33333333 | C26: =TABELLE!C21/$H$2 -> 0.066666667 | D26: =TABELLE!D21/$H$2 -> 0.4 | E26: =TABELLE!E21/$H$2 -> 0.066666667 | F26: =TABELLE!F21/$H$2 -> 0.066666667 | G26: =TABELLE!G21/$H$2 -> 0.066666667 | H26: =15 -> 15
B27: MAI | C27: RARAMENTE | D27: QUALCHE VOLTA | E27: SPESSO | F27: SEMPRE | G27: NON RISPONDE
A28: domanda 14 | B28: =TABELLE!B22/$H$2 -> 0 | C28: =TABELLE!C22/$H$2 -> 0.13333333 | D28: =TABELLE!D22/$H$2 -> 0.26666667 | E28: =TABELLE!E22/$H$2 -> 0.46666667 | F28: =TABELLE!F22/$H$2 -> 0.066666667 | G28: =TABELLE!G22/$H$2 -> 0.066666667 | H28: =15 -> 15
B29: MAI | C29: RARAMENTE | D29: QUALCHE VOLTA | E29: SPESSO | F29: SEMPRE | G29: NON RISPONDE
A30: domanda 15a | B30: =TABELLE!B23/$H$2 -> 0.26666667 | C30: =TABELLE!C23/$H$2 -> 0.2 | D30: =TABELLE!D23/$H$2 -> 0.13333333 | E30: =TABELLE!E23/$H$2 -> 0.26666667 | F30: =TABELLE!F23/$H$2 -> 0.066666667 | G30: =TABELLE!G23/$H$2 -> 0.066666667 | H30: =15 -> 15
B31: MAI | C31: RARAMENTE | D31: QUALCHE VOLTA | E31: SPESSO | F31: SEMPRE | G31: NON RISPONDE
A32: domanda 15b | B32: =TABELLE!B24/$H$2 -> 0.86666667 | C32: =TABELLE!C24/$H$2 -> 0 | D32: =TABELLE!D24/$H$2 -> 0.066666667 | E32: =TABELLE!E24/$H$2 -> 0 | F32: =TABELLE!F24/$H$2 -> 0 | G32: =TABELLE!G24/$H$2 -> 0.066666667 | H32: =15 -> 15
B33: MAI | C33: RARAMENTE | D33: QUALCHE VOLTA | E33: SPESSO | F33: SEMPRE | G33: NON RISPONDE
A34: domanda 16 | B34: =TABELLE!B25/$H$2 -> 0.6 | C34: =TABELLE!C25/$H$2 -> 0.13333333 | D34: =TABELLE!D25/$H$2 -> 0.066666667 | E34: =TABELLE!E25/$H$2 -> 0.13333333 | F34: =TABELLE!F25/$H$2 -> 0 | G34: =TABELLE!G25/$H$2 -> 0.066666667 | H34: =15 -> 15
B35: MAI | C35: RARAMENTE | D35: QUALCHE VOLTA | E35: SPESSO | F35: SEMPRE | G35: NON RISPONDE
A36: domanda 17 | B36: =TABELLE!B26/$H$2 -> 0.13333333 | C36: =TABELLE!C26/$H$2 -> 0.13333333 | D36: =TABELLE!D26/$H$2 -> 0.4 | E36: =TABELLE!E26/$H$2 -> 0.26666667 | F36: =TABELLE!F26/$H$2 -> 0 | G36: =TABELLE!G26/$H$2 -> 0.066666667 | H36: =15 -> 15
B37: MAI | C37: RARAMENTE | D37: QUALCHE VOLTA | E37: SPESSO | F37: SEMPRE | G37: NON RISPONDE
A38: domanda 18 | B38: =TABELLE!B27/$H$2 -> 0.066666667 | C38: =TABELLE!C27/$H$2 -> 0.066666667 | D38: =TABELLE!D27/$H$2 -> 0.26666667 | E38: =TABELLE!E27/$H$2 -> 0.4 | F38: =TABELLE!F27/$H$2 -> 0.13333333 | G38: =TABELLE!G27/$H$2 -> 0.066666667 | H38: =15 -> 15
B39: MAI | C39: RARAMENTE | D39: QUALCHE VOLTA | E39: SPESSO | F39: SEMPRE | G39: NON RISPONDE
A40: domanda 19 | B40: =TABELLE!B28/$H$2 -> 0.13333333 | C40: =TABELLE!C28/$H$2 -> 0.13333333 | D40: =TABELLE!D28/$H$2 -> 0.46666667 | E40: =TABELLE!E28/$H$2 -> 0.2 | F40: =TABELLE!F28/$H$2 -> 0 | G40: =TABELLE!G28/$H$2 -> 0.066666667 | H40: =15 -> 15
...

Sheet GRAFICI 9-12
B1: MAI | C1: RARAMENTE | D1: QUALCHE VOLTA | E1: SPESSO | F1: SEMPRE | G1: NON RISPONDE | H1: TOTALE
A2: domanda 1 | B2: =TABELLE!B9/$H$2 -> 0.6 | C2: =TABELLE!C9/$H$2 -> 0.066666667 | D2: =TABELLE!D9/$H$2 -> 0.33333333 | E2: =TABELLE!E9/$H$2 -> 0 | F2: =TABELLE!F9/$H$2 -> 0 | G2: =TABELLE!G9/$H$2 -> 0 | H2: =15 -> 15
B3: MAI | C3: RARAMENTE | D3: QUALCHE VOLTA | E3: SPESSO | F3: SEMPRE | G3: NON RISPONDE
A4: domanda 2 | B4: =TABELLE!B10/$H$2 -> 0.26666667 | C4: =TABELLE!C10/$H$2 -> 0.13333333 | D4: =TABELLE!D10/$H$2 -> 0.26666667 | E4: =TABELLE!E10/$H$2 -> 0.13333333 | F4: =TABELLE!F10/$H$2 -> 0.13333333 | G4: =TABELLE!G10/$H$2 -> 0.066666667 | H4: =15 -> 15
B5: MAI | C5: RARAMENTE | D5: QUALCHE VOLTA | E5: SPESSO | F5: SEMPRE | G5: NON RISPONDE
A6: domanda 3 | B6: =TABELLE!B11/$H$2 -> 0.26666667 | C6: =TABELLE!C11/$H$2 -> 0.26666667 | D6: =TABELLE!D11/$H$2 -> 0.4 | E6: =TABELLE!E11/$H$2 -> 0 | F6: =TABELLE!F11/$H$2 -> 0 | G6: =TABELLE!G11/$H$2 -> 0.066666667 | H6: =15 -> 15
B7: MAI | C7: RARAMENTE | D7: QUALCHE VOLTA | E7: SPESSO | F7: SEMPRE | G7: NON RISPONDE
A8: domanda 4 | B8: =TABELLE!B12/$H$2 -> 0 | C8: =TABELLE!C12/$H$2 -> 0.066666667 | D8: =TABELLE!D12/$H$2 -> 0.4 | E8: =TABELLE!E12/$H$2 -> 0.13333333 | F8: =TABELLE!F12/$H$2 -> 0.33333333 | G8: =TABELLE!G12/$H$2 -> 0.066666667 | H8: =15 -> 15
B9: MAI | C9: RARAMENTE | D9: QUALCHE VOLTA | E9: SPESSO | F9: SEMPRE | G9: NON RISPONDE
A10: domanda 5 | B10: =TABELLE!B13/$H$2 -> 0.066666667 | C10: =TABELLE!C13/$H$2 -> 0.13333333 | D10: =TABELLE!D13/$H$2 -> 0.4 | E10: =TABELLE!E13/$H$2 -> 0.33333333 | F10: =TABELLE!F13/$H$2 -> 0.066666667 | G10: =TABELLE!G13/$H$2 -> 0 | H10: =15 -> 15
B11: MAI | C11: RARAMENTE | D11: QUALCHE VOLTA | E11: SPESSO | F11: SEMPRE | G11: NON RISPONDE
A12: domanda 6 | B12: =TABELLE!B14/$H$2 -> 0 | C12: =TABELLE!C14/$H$2 -> 0 | D12: =TABELLE!D14/$H$2 -> 0.2 | E12: =TABELLE!E14/$H$2 -> 0.33333333 | F12: =TABELLE!F14/$H$2 -> 0.46666667 | G12: =TABELLE!G14/$H$2 -> 0 | H12: =15 -> 15
B13: MAI | C13: RARAMENTE | D13: QUALCHE VOLTA | E13: SPESSO | F13: SEMPRE | G13: NON RISPONDE
A14: domanda 7 | B14: =TABELLE!B15/$H$2 -> 0.13333333 | C14: =TABELLE!C15/$H$2 -> 0.6 | D14: =TABELLE!D15/$H$2 -> 0.2 | E14: =TABELLE!E15/$H$2 -> 0.066666667 | F14: =TABELLE!F15/$H$2 -> 0 | G14: =TABELLE!G15/$H$2 -> 0 | H14: =15 -> 15
B15: MAI | C15: RARAMENTE | D15: QUALCHE VOLTA | E15: SPESSO | F15: SEMPRE | G15: NON RISPONDE
A16: domanda 8 | B16: =TABELLE!B16/$H$2 -> 0.73333333 | C16: =TABELLE!C16/$H$2 -> 0.2 | D16: =TABELLE!D16/$H$2 -> 0.066666667 | E16: =TABELLE!E16/$H$2 -> 0 | F16: =TABELLE!F16/$H$2 -> 0 | G16: =TABELLE!G16/$H$2 -> 0 | H16: =15 -> 15
B17: MAI | C17: RARAMENTE | D17: QUALCHE VOLTA | E17: SPESSO | F17: SEMPRE | G17: NON RISPONDE
A18: domanda 9 | B18: =TABELLE!B17/$H$2 -> 0.066666667 | C18: =TABELLE!C17/$H$2 -> 0.4 | D18: =TABELLE!D17/$H$2 -> 0.2 | E18: =TABELLE!E17/$H$2 -> 0.26666667 | F18: =TABELLE!F17/$H$2 -> 0.066666667 | G18: =TABELLE!G17/$H$2 -> 0 | H18: =15 -> 15
B19: MAI | C19: RARAMENTE | D19: QUALCHE VOLTA | E19: SPESSO | F19: SEMPRE | G19: NON RISPONDE
A20: domanda 10 | B20: =TABELLE!B18/$H$2 -> 0.066666667 | C20: =TABELLE!C18/$H$2 -> 0.066666667 | D20: =TABELLE!D18/$H$2 -> 0.066666667 | E20: =TABELLE!E18/$H$2 -> 0.53333333 | F20: =TABELLE!F18/$H$2 -> 0.26666667 | G20: =TABELLE!G18/$H$2 -> 0 | H20: =15 -> 15
B21: MAI | C21: RARAMENTE | D21: QUALCHE VOLTA | E21: SPESSO | F21: SEMPRE | G21: NON RISPONDE
A22: domanda 11 | B22: =TABELLE!B19/$H$2 -> 0.066666667 | C22: =TABELLE!C19/$H$2 -> 0.13333333 | D22: =TABELLE!D19/$H$2 -> 0.13333333 | E22: =TABELLE!E19/$H$2 -> 0.4 | F22: =TABELLE!F19/$H$2 -> 0.2 | G22: =TABELLE!G19/$H$2 -> 0.066666667 | H22: =15 -> 15
B23: MAI | C23: RARAMENTE | D23: QUALCHE VOLTA | E23: SPESSO | F23: SEMPRE | G23: NON RISPONDE
A24: domanda 12 | B24: =TABELLE!B20/$H$2 -> 0.4 | C24: =TABELLE!C20/$H$2 -> 0 | D24: =TABELLE!D20/$H$2 -> 0.13333333 | E24: =TABELLE!E20/$H$2 -> 0.2 | F24: =TABELLE!F20/$H$2 -> 0.2 | G24: =TABELLE!G20/$H$2 -> 0.066666667 | H24: =15 -> 15
B25: MAI | C25: RARAMENTE | D25: QUALCHE VOLTA | E25: SPESSO | F25: SEMPRE | G25: NON RISPONDE
A26: domanda 13 | B26: =TABELLE!B21/$H$2 -> 0.33333333 | C26: =TABELLE!C21/$H$2 -> 0.066666667 | D26: =TABELLE!D21/$H$2 -> 0.4 | E26: =TABELLE!E21/$H$2 -> 0.066666667 | F26: =TABELLE!F21/$H$2 -> 0.066666667 | G26: =TABELLE!G21/$H$2 -> 0.066666667 | H26: =15 -> 15
B27: MAI | C27: RARAMENTE | D27: QUALCHE VOLTA | E27: SPESSO | F27: SEMPRE | G27: NON RISPONDE
A28: domanda 14 | B28: =TABELLE!B22/$H$2 -> 0 | C28: =TABELLE!C22/$H$2 -> 0.13333333 | D28: =TABELLE!D22/$H$2 -> 0.26666667 | E28: =TABELLE!E22/$H$2 -> 0.46666667 | F28: =TABELLE!F22/$H$2 -> 0.066666667 | G28: =TABELLE!G22/$H$2 -> 0.066666667 | H28: =15 -> 15
B29: MAI | C29: RARAMENTE | D29: QUALCHE VOLTA | E29: SPESSO | F29: SEMPRE | G29: NON RISPONDE
A30: domanda 15a | B30: =TABELLE!B23/$H$2 -> 0.26666667 | C30: =TABELLE!C23/$H$2 -> 0.2 | D30: =TABELLE!D23/$H$2 -> 0.13333333 | E30: =TABELLE!E23/$H$2 -> 0.26666667 | F30: =TABELLE!F23/$H$2 -> 0.066666667 | G30: =TABELLE!G23/$H$2 -> 0.066666667 | H30: =15 -> 15
B31: MAI | C31: RARAMENTE | D31: QUALCHE VOLTA | E31: SPESSO | F31: SEMPRE | G31: NON RISPONDE
A32: domanda 15b | B32: =TABELLE!B24/$H$2 -> 0.86666667 | C32: =TABELLE!C24/$H$2 -> 0 | D32: =TABELLE!D24/$H$2 -> 0.066666667 | E32: =TABELLE!E24/$H$2 -> 0 | F32: =TABELLE!F24/$H$2 -> 0 | G32: =TABELLE!G24/$H$2 -> 0.066666667 | H32: =15 -> 15
B33: MAI | C33: RARAMENTE | D33: QUALCHE VOLTA | E33: SPESSO | F33: SEMPRE | G33: NON RISPONDE
A34: domanda 16 | B34: =TABELLE!B25/$H$2 -> 0.6 | C34: =TABELLE!C25/$H$2 -> 0.13333333 | D34: =TABELLE!D25/$H$2 -> 0.066666667 | E34: =TABELLE!E25/$H$2 -> 0.13333333 | F34: =TABELLE!F25/$H$2 -> 0 | G34: =TABELLE!G25/$H$2 -> 0.066666667 | H34: =15 -> 15
B35: MAI | C35: RARAMENTE | D35: QUALCHE VOLTA | E35: SPESSO | F35: SEMPRE | G35: NON RISPONDE
A36: domanda 17 | B36: =TABELLE!B26/$H$2 -> 0.13333333 | C36: =TABELLE!C26/$H$2 -> 0.13333333 | D36: =TABELLE!D26/$H$2 -> 0.4 | E36: =TABELLE!E26/$H$2 -> 0.26666667 | F36: =TABELLE!F26/$H$2 -> 0 | G36: =TABELLE!G26/$H$2 -> 0.066666667 | H36: =15 -> 15
B37: MAI | C37: RARAMENTE | D37: QUALCHE VOLTA | E37: SPESSO | F37: SEMPRE | G37: NON RISPONDE
A38: domanda 18 | B38: =TABELLE!B27/$H$2 -> 0.066666667 | C38: =TABELLE!C27/$H$2 -> 0.066666667 | D38: =TABELLE!D27/$H$2 -> 0.26666667 | E38: =TABELLE!E27/$H$2 -> 0.4 | F38: =TABELLE!F27/$H$2 -> 0.13333333 | G38: =TABELLE!G27/$H$2 -> 0.066666667 | H38: =15 -> 15
B39: MAI | C39: RARAMENTE | D39: QUALCHE VOLTA | E39: SPESSO | F39: SEMPRE | G39: NON RISPONDE
A40: domanda 19 | B40: =TABELLE!B28/$H$2 -> 0.13333333 | C40: =TABELLE!C28/$H$2 -> 0.13333333 | D40: =TABELLE!D28/$H$2 -> 0.46666667 | E40: =TABELLE!E28/$H$2 -> 0.2 | F40: =TABELLE!F28/$H$2 -> 0 | G40: =TABELLE!G28/$H$2 -> 0.066666667 | H40: =15 -> 15
...

Sheet GRAFICI 13-15b
B1: MAI | C1: RARAMENTE | D1: QUALCHE VOLTA | E1: SPESSO | F1: SEMPRE | G1: NON RISPONDE | H1: TOTALE
A2: domanda 1 | B2: =TABELLE!B9/$H$2 -> 0.6 | C2: =TABELLE!C9/$H$2 -> 0.066666667 | D2: =TABELLE!D9/$H$2 -> 0.33333333 | E2: =TABELLE!E9/$H$2 -> 0 | F2: =TABELLE!F9/$H$2 -> 0 | G2: =TABELLE!G9/$H$2 -> 0 | H2: =15 -> 15
B3: MAI | C3: RARAMENTE | D3: QUALCHE VOLTA | E3: SPESSO | F3: SEMPRE | G3: NON RISPONDE
A4: domanda 2 | B4: =TABELLE!B10/$H$2 -> 0.26666667 | C4: =TABELLE!C10/$H$2 -> 0.13333333 | D4: =TABELLE!D10/$H$2 -> 0.26666667 | E4: =TABELLE!E10/$H$2 -> 0.13333333 | F4: =TABELLE!F10/$H$2 -> 0.13333333 | G4: =TABELLE!G10/$H$2 -> 0.066666667 | H4: =15 -> 15
B5: MAI | C5: RARAMENTE | D5: QUALCHE VOLTA | E5: SPESSO | F5: SEMPRE | G5: NON RISPONDE
A6: domanda 3 | B6: =TABELLE!B11/$H$2 -> 0.26666667 | C6: =TABELLE!C11/$H$2 -> 0.26666667 | D6: =TABELLE!D11/$H$2 -> 0.4 | E6: =TABELLE!E11/$H$2 -> 0 | F6: =TABELLE!F11/$H$2 -> 0 | G6: =TABELLE!G11/$H$2 -> 0.066666667 | H6: =15 -> 15
B7: MAI | C7: RARAMENTE | D7: QUALCHE VOLTA | E7: SPESSO | F7: SEMPRE | G7: NON RISPONDE
A8: domanda 4 | B8: =TABELLE!B12/$H$2 -> 0 | C8: =TABELLE!C12/$H$2 -> 0.066666667 | D8: =TABELLE!D12/$H$2 -> 0.4 | E8: =TABELLE!E12/$H$2 -> 0.13333333 | F8: =TABELLE!F12/$H$2 -> 0.33333333 | G8: =TABELLE!G12/$H$2 -> 0.066666667 | H8: =15 -> 15
B9: MAI | C9: RARAMENTE | D9: QUALCHE VOLTA | E9: SPESSO | F9: SEMPRE | G9: NON RISPONDE
A10: domanda 5 | B10: =TABELLE!B13/$H$2 -> 0.066666667 | C10: =TABELLE!C13/$H$2 -> 0.13333333 | D10: =TABELLE!D13/$H$2 -> 0.4 | E10: =TABELLE!E13/$H$2 -> 0.33333333 | F10: =TABELLE!F13/$H$2 -> 0.066666667 | G10: =TABELLE!G13/$H$2 -> 0 | H10: =15 -> 15
B11: MAI | C11: RARAMENTE | D11: QUALCHE VOLTA | E11: SPESSO | F11: SEMPRE | G11: NON RISPONDE
A12: domanda 6 | B12: =TABELLE!B14/$H$2 -> 0 | C12: =TABELLE!C14/$H$2 -> 0 | D12: =TABELLE!D14/$H$2 -> 0.2 | E12: =TABELLE!E14/$H$2 -> 0.33333333 | F12: =TABELLE!F14/$H$2 -> 0.46666667 | G12: =TABELLE!G14/$H$2 -> 0 | H12: =15 -> 15
B13: MAI | C13: RARAMENTE | D13: QUALCHE VOLTA | E13: SPESSO | F13: SEMPRE | G13: NON RISPONDE
A14: domanda 7 | B14: =TABELLE!B15/$H$2 -> 0.13333333 | C14: =TABELLE!C15/$H$2 -> 0.6 | D14: =TABELLE!D15/$H$2 -> 0.2 | E14: =TABELLE!E15/$H$2 -> 0.066666667 | F14: =TABELLE!F15/$H$2 -> 0 | G14: =TABELLE!G15/$H$2 -> 0 | H14: =15 -> 15
B15: MAI | C15: RARAMENTE | D15: QUALCHE VOLTA | E15: SPESSO | F15: SEMPRE | G15: NON RISPONDE
A16: domanda 8 | B16: =TABELLE!B16/$H$2 -> 0.73333333 | C16: =TABELLE!C16/$H$2 -> 0.2 | D16: =TABELLE!D16/$H$2 -> 0.066666667 | E16: =TABELLE!E16/$H$2 -> 0 | F16: =TABELLE!F16/$H$2 -> 0 | G16: =TABELLE!G16/$H$2 -> 0 | H16: =15 -> 15
B17: MAI | C17: RARAMENTE | D17: QUALCHE VOLTA | E17: SPESSO | F17: SEMPRE | G17: NON RISPONDE
A18: domanda 9 | B18: =TABELLE!B17/$H$2 -> 0.066666667 | C18: =TABELLE!C17/$H$2 -> 0.4 | D18: =TABELLE!D17/$H$2 -> 0.2 | E18: =TABELLE!E17/$H$2 -> 0.26666667 | F18: =TABELLE!F17/$H$2 -> 0.066666667 | G18: =TABELLE!G17/$H$2 -> 0 | H18: =15 -> 15
B19: MAI | C19: RARAMENTE | D19: QUALCHE VOLTA | E19: SPESSO | F19: SEMPRE | G19: NON RISPONDE
A20: domanda 10 | B20: =TABELLE!B18/$H$2 -> 0.066666667 | C20: =TABELLE!C18/$H$2 -> 0.066666667 | D20: =TABELLE!D18/$H$2 -> 0.066666667 | E20: =TABELLE!E18/$H$2 -> 0.53333333 | F20: =TABELLE!F18/$H$2 -> 0.26666667 | G20: =TABELLE!G18/$H$2 -> 0 | H20: =15 -> 15
B21: MAI | C21: RARAMENTE | D21: QUALCHE VOLTA | E21: SPESSO | F21: SEMPRE | G21: NON RISPONDE
A22: domanda 11 | B22: =TABELLE!B19/$H$2 -> 0.066666667 | C22: =TABELLE!C19/$H$2 -> 0.13333333 | D22: =TABELLE!D19/$H$2 -> 0.13333333 | E22: =TABELLE!E19/$H$2 -> 0.4 | F22: =TABELLE!F19/$H$2 -> 0.2 | G22: =TABELLE!G19/$H$2 -> 0.066666667 | H22: =15 -> 15
B23: MAI | C23: RARAMENTE | D23: QUALCHE VOLTA | E23: SPESSO | F23: SEMPRE | G23: NON RISPONDE
A24: domanda 12 | B24: =TABELLE!B20/$H$2 -> 0.4 | C24: =TABELLE!C20/$H$2 -> 0 | D24: =TABELLE!D20/$H$2 -> 0.13333333 | E24: =TABELLE!E20/$H$2 -> 0.2 | F24: =TABELLE!F20/$H$2 -> 0.2 | G24: =TABELLE!G20/$H$2 -> 0.066666667 | H24: =15 -> 15
B25: MAI | C25: RARAMENTE | D25: QUALCHE VOLTA | E25: SPESSO | F25: SEMPRE | G25: NON RISPONDE
A26: domanda 13 | B26: =TABELLE!B21/$H$2 -> 0.33333333 | C26: =TABELLE!C21/$H$2 -> 0.066666667 | D26: =TABELLE!D21/$H$2 -> 0.4 | E26: =TABELLE!E21/$H$2 -> 0.066666667 | F26: =TABELLE!F21/$H$2 -> 0.066666667 | G26: =TABELLE!G21/$H$2 -> 0.066666667 | H26: =15 -> 15
B27: MAI | C27: RARAMENTE | D27: QUALCHE VOLTA | E27: SPESSO | F27: SEMPRE | G27: NON RISPONDE
A28: domanda 14 | B28: =TABELLE!B22/$H$2 -> 0 | C28: =TABELLE!C22/$H$2 -> 0.13333333 | D28: =TABELLE!D22/$H$2 -> 0.26666667 | E28: =TABELLE!E22/$H$2 -> 0.46666667 | F28: =TABELLE!F22/$H$2 -> 0.066666667 | G28: =TABELLE!G22/$H$2 -> 0.066666667 | H28: =15 -> 15
B29: MAI | C29: RARAMENTE | D29: QUALCHE VOLTA | E29: SPESSO | F29: SEMPRE | G29: NON RISPONDE
A30: domanda 15a | B30: =TABELLE!B23/$H$2 -> 0.26666667 | C30: =TABELLE!C23/$H$2 -> 0.2 | D30: =TABELLE!D23/$H$2 -> 0.13333333 | E30: =TABELLE!E23/$H$2 -> 0.26666667 | F30: =TABELLE!F23/$H$2 -> 0.066666667 | G30: =TABELLE!G23/$H$2 -> 0.066666667 | H30: =15 -> 15
B31: MAI | C31: RARAMENTE | D31: QUALCHE VOLTA | E31: SPESSO | F31: SEMPRE | G31: NON RISPONDE
A32: domanda 15b | B32: =TABELLE!B24/$H$2 -> 0.86666667 | C32: =TABELLE!C24/$H$2 -> 0 | D32: =TABELLE!D24/$H$2 -> 0.066666667 | E32: =TABELLE!E24/$H$2 -> 0 | F32: =TABELLE!F24/$H$2 -> 0 | G32: =TABELLE!G24/$H$2 -> 0.066666667 | H32: =15 -> 15
B33: MAI | C33: RARAMENTE | D33: QUALCHE VOLTA | E33: SPESSO | F33: SEMPRE | G33: NON RISPONDE
A34: domanda 16 | B34: =TABELLE!B25/$H$2 -> 0.6 | C34: =TABELLE!C25/$H$2 -> 0.13333333 | D34: =TABELLE!D25/$H$2 -> 0.066666667 | E34: =TABELLE!E25/$H$2 -> 0.13333333 | F34: =TABELLE!F25/$H$2 -> 0 | G34: =TABELLE!G25/$H$2 -> 0.066666667 | H34: =15 -> 15
B35: MAI | C35: RARAMENTE | D35: QUALCHE VOLTA | E35: SPESSO | F35: SEMPRE | G35: NON RISPONDE
A36: domanda 17 | B36: =TABELLE!B26/$H$2 -> 0.13333333 | C36: =TABELLE!C26/$H$2 -> 0.13333333 | D36: =TABELLE!D26/$H$2 -> 0.4 | E36: =TABELLE!E26/$H$2 -> 0.26666667 | F36: =TABELLE!F26/$H$2 -> 0 | G36: =TABELLE!G26/$H$2 -> 0.066666667 | H36: =15 -> 15
B37: MAI | C37: RARAMENTE | D37: QUALCHE VOLTA | E37: SPESSO | F37: SEMPRE | G37: NON RISPONDE
A38: domanda 18 | B38: =TABELLE!B27/$H$2 -> 0.066666667 | C38: =TABELLE!C27/$H$2 -> 0.066666667 | D38: =TABELLE!D27/$H$2 -> 0.26666667 | E38: =TABELLE!E27/$H$2 -> 0.4 | F38: =TABELLE!F27/$H$2 -> 0.13333333 | G38: =TABELLE!G27/$H$2 -> 0.066666667 | H38: =15 -> 15
B39: MAI | C39: RARAMENTE | D39: QUALCHE VOLTA | E39: SPESSO | F39: SEMPRE | G39: NON RISPONDE
A40: domanda 19 | B40: =TABELLE!B28/$H$2 -> 0.13333333 | C40: =TABELLE!C28/$H$2 -> 0.13333333 | D40: =TABELLE!D28/$H$2 -> 0.46666667 | E40: =TABELLE!E28/$H$2 -> 0.2 | F40: =TABELLE!F28/$H$2 -> 0 | G40: =TABELLE!G28/$H$2 -> 0.066666667 | H40: =15 -> 15
...

Sheet GRAFICI 16-20
B1: MAI | C1: RARAMENTE | D1: QUALCHE VOLTA | E1: SPESSO | F1: SEMPRE | G1: NON RISPONDE | H1: TOTALE
A2: domanda 1 | B2: =TABELLE!B9/$H$2 -> 0.6 | C2: =TABELLE!C9/$H$2 -> 0.066666667 | D2: =TABELLE!D9/$H$2 -> 0.33333333 | E2: =TABELLE!E9/$H$2 -> 0 | F2: =TABELLE!F9/$H$2 -> 0 | G2: =TABELLE!G9/$H$2 -> 0 | H2: =15 -> 15
B3: MAI | C3: RARAMENTE | D3: QUALCHE VOLTA | E3: SPESSO | F3: SEMPRE | G3: NON RISPONDE
A4: domanda 2 | B4: =TABELLE!B10/$H$2 -> 0.26666667 | C4: =TABELLE!C10/$H$2 -> 0.13333333 | D4: =TABELLE!D10/$H$2 -> 0.26666667 | E4: =TABELLE!E10/$H$2 -> 0.13333333 | F4: =TABELLE!F10/$H$2 -> 0.13333333 | G4: =TABELLE!G10/$H$2 -> 0.066666667 | H4: =15 -> 15
B5: MAI | C5: RARAMENTE | D5: QUALCHE VOLTA | E5: SPESSO | F5: SEMPRE | G5: NON RISPONDE
A6: domanda 3 | B6: =TABELLE!B11/$H$2 -> 0.26666667 | C6: =TABELLE!C11/$H$2 -> 0.26666667 | D6: =TABELLE!D11/$H$2 -> 0.4 | E6: =TABELLE!E11/$H$2 -> 0 | F6: =TABELLE!F11/$H$2 -> 0 | G6: =TABELLE!G11/$H$2 -> 0.066666667 | H6: =15 -> 15
B7: MAI | C7: RARAMENTE | D7: QUALCHE VOLTA | E7: SPESSO | F7: SEMPRE | G7: NON RISPONDE
A8: domanda 4 | B8: =TABELLE!B12/$H$2 -> 0 | C8: =TABELLE!C12/$H$2 -> 0.066666667 | D8: =TABELLE!D12/$H$2 -> 0.4 | E8: =TABELLE!E12/$H$2 -> 0.13333333 | F8: =TABELLE!F12/$H$2 -> 0.33333333 | G8: =TABELLE!G12/$H$2 -> 0.066666667 | H8: =15 -> 15
B9: MAI | C9: RARAMENTE | D9: QUALCHE VOLTA | E9: SPESSO | F9: SEMPRE | G9: NON RISPONDE
A10: domanda 5 | B10: =TABELLE!B13/$H$2 -> 0.066666667 | C10: =TABELLE!C13/$H$2 -> 0.13333333 | D10: =TABELLE!D13/$H$2 -> 0.4 | E10: =TABELLE!E13/$H$2 -> 0.33333333 | F10: =TABELLE!F13/$H$2 -> 0.066666667 | G10: =TABELLE!G13/$H$2 -> 0 | H10: =15 -> 15
B11: MAI | C11: RARAMENTE | D11: QUALCHE VOLTA | E11: SPESSO | F11: SEMPRE | G11: NON RISPONDE
A12: domanda 6 | B12: =TABELLE!B14/$H$2 -> 0 | C12: =TABELLE!C14/$H$2 -> 0 | D12: =TABELLE!D14/$H$2 -> 0.2 | E12: =TABELLE!E14/$H$2 -> 0.33333333 | F12: =TABELLE!F14/$H$2 -> 0.46666667 | G12: =TABELLE!G14/$H$2 -> 0 | H12: =15 -> 15
B13: MAI | C13: RARAMENTE | D13: QUALCHE VOLTA | E13: SPESSO | F13: SEMPRE | G13: NON RISPONDE
A14: domanda 7 | B14: =TABELLE!B15/$H$2 -> 0.13333333 | C14: =TABELLE!C15/$H$2 -> 0.6 | D14: =TABELLE!D15/$H$2 -> 0.2 | E14: =TABELLE!E15/$H$2 -> 0.066666667 | F14: =TABELLE!F15/$H$2 -> 0 | G14: =TABELLE!G15/$H$2 -> 0 | H14: =15 -> 15
B15: MAI | C15: RARAMENTE | D15: QUALCHE VOLTA | E15: SPESSO | F15: SEMPRE | G15: NON RISPONDE
A16: domanda 8 | B16: =TABELLE!B16/$H$2 -> 0.73333333 | C16: =TABELLE!C16/$H$2 -> 0.2 | D16: =TABELLE!D16/$H$2 -> 0.066666667 | E16: =TABELLE!E16/$H$2 -> 0 | F16: =TABELLE!F16/$H$2 -> 0 | G16: =TABELLE!G16/$H$2 -> 0 | H16: =15 -> 15
B17: MAI | C17: RARAMENTE | D17: QUALCHE VOLTA | E17: SPESSO | F17: SEMPRE | G17: NON RISPONDE
A18: domanda 9 | B18: =TABELLE!B17/$H$2 -> 0.066666667 | C18: =TABELLE!C17/$H$2 -> 0.4 | D18: =TABELLE!D17/$H$2 -> 0.2 | E18: =TABELLE!E17/$H$2 -> 0.26666667 | F18: =TABELLE!F17/$H$2 -> 0.066666667 | G18: =TABELLE!G17/$H$2 -> 0 | H18: =15 -> 15
B19: MAI | C19: RARAMENTE | D19: QUALCHE VOLTA | E19: SPESSO | F19: SEMPRE | G19: NON RISPONDE
A20: domanda 10 | B20: =TABELLE!B18/$H$2 -> 0.066666667 | C20: =TABELLE!C18/$H$2 -> 0.066666667 | D20: =TABELLE!D18/$H$2 -> 0.066666667 | E20: =TABELLE!E18/$H$2 -> 0.53333333 | F20: =TABELLE!F18/$H$2 -> 0.26666667 | G20: =TABELLE!G18/$H$2 -> 0 | H20: =15 -> 15
B21: MAI | C21: RARAMENTE | D21: QUALCHE VOLTA | E21: SPESSO | F21: SEMPRE | G21: NON RISPONDE
A22: domanda 11 | B22: =TABELLE!B19/$H$2 -> 0.066666667 | C22: =TABELLE!C19/$H$2 -> 0.13333333 | D22: =TABELLE!D19/$H$2 -> 0.13333333 | E22: =TABELLE!E19/$H$2 -> 0.4 | F22: =TABELLE!F19/$H$2 -> 0.2 | G22: =TABELLE!G19/$H$2 -> 0.066666667 | H22: =15 -> 15
B23: MAI | C23: RARAMENTE | D23: QUALCHE VOLTA | E23: SPESSO | F23: SEMPRE | G23: NON RISPONDE
A24: domanda 12 | B24: =TABELLE!B20/$H$2 -> 0.4 | C24: =TABELLE!C20/$H$2 -> 0 | D24: =TABELLE!D20/$H$2 -> 0.13333333 | E24: =TABELLE!E20/$H$2 -> 0.2 | F24: =TABELLE!F20/$H$2 -> 0.2 | G24: =TABELLE!G20/$H$2 -> 0.066666667 | H24: =15 -> 15
B25: MAI | C25: RARAMENTE | D25: QUALCHE VOLTA | E25: SPESSO | F25: SEMPRE | G25: NON RISPONDE
A26: domanda 13 | B26: =TABELLE!B21/$H$2 -> 0.33333333 | C26: =TABELLE!C21/$H$2 -> 0.066666667 | D26: =TABELLE!D21/$H$2 -> 0.4 | E26: =TABELLE!E21/$H$2 -> 0.066666667 | F26: =TABELLE!F21/$H$2 -> 0.066666667 | G26: =TABELLE!G21/$H$2 -> 0.066666667 | H26: =15 -> 15
B27: MAI | C27: RARAMENTE | D27: QUALCHE VOLTA | E27: SPESSO | F27: SEMPRE | G27: NON RISPONDE
A28: domanda 14 | B28: =TABELLE!B22/$H$2 -> 0 | C28: =TABELLE!C22/$H$2 -> 0.13333333 | D28: =TABELLE!D22/$H$2 -> 0.26666667 | E28: =TABELLE!E22/$H$2 -> 0.46666667 | F28: =TABELLE!F22/$H$2 -> 0.066666667 | G28: =TABELLE!G22/$H$2 -> 0.066666667 | H28: =15 -> 15
B29: MAI | C29: RARAMENTE | D29: QUALCHE VOLTA | E29: SPESSO | F29: SEMPRE | G29: NON RISPONDE
A30: domanda 15a | B30: =TABELLE!B23/$H$2 -> 0.26666667 | C30: =TABELLE!C23/$H$2 -> 0.2 | D30: =TABELLE!D23/$H$2 -> 0.13333333 | E30: =TABELLE!E23/$H$2 -> 0.26666667 | F30: =TABELLE!F23/$H$2 -> 0.066666667 | G30: =TABELLE!G23/$H$2 -> 0.066666667 | H30: =15 -> 15
B31: MAI | C31: RARAMENTE | D31: QUALCHE VOLTA | E31: SPESSO | F31: SEMPRE | G31: NON RISPONDE
A32: domanda 15b | B32: =TABELLE!B24/$H$2 -> 0.86666667 | C32: =TABELLE!C24/$H$2 -> 0 | D32: =TABELLE!D24/$H$2 -> 0.066666667 | E32: =TABELLE!E24/$H$2 -> 0 | F32: =TABELLE!F24/$H$2 -> 0 | G32: =TABELLE!G24/$H$2 -> 0.066666667 | H32: =15 -> 15
B33: MAI | C33: RARAMENTE | D33: QUALCHE VOLTA | E33: SPESSO | F33: SEMPRE | G33: NON RISPONDE
A34: domanda 16 | B34: =TABELLE!B25/$H$2 -> 0.6 | C34: =TABELLE!C25/$H$2 -> 0.13333333 | D34: =TABELLE!D25/$H$2 -> 0.066666667 | E34: =TABELLE!E25/$H$2 -> 0.13333333 | F34: =TABELLE!F25/$H$2 -> 0 | G34: =TABELLE!G25/$H$2 -> 0.066666667 | H34: =15 -> 15
B35: MAI | C35: RARAMENTE | D35: QUALCHE VOLTA | E35: SPESSO | F35: SEMPRE | G35: NON RISPONDE
A36: domanda 17 | B36: =TABELLE!B26/$H$2 -> 0.13333333 | C36: =TABELLE!C26/$H$2 -> 0.13333333 | D36: =TABELLE!D26/$H$2 -> 0.4 | E36: =TABELLE!E26/$H$2 -> 0.26666667 | F36: =TABELLE!F26/$H$2 -> 0 | G36: =TABELLE!G26/$H$2 -> 0.066666667 | H36: =15 -> 15
B37: MAI | C37: RARAMENTE | D37: QUALCHE VOLTA | E37: SPESSO | F37: SEMPRE | G37: NON RISPONDE
A38: domanda 18 | B38: =TABELLE!B27/$H$2 -> 0.066666667 | C38: =TABELLE!C27/$H$2 -> 0.066666667 | D38: =TABELLE!D27/$H$2 -> 0.26666667 | E38: =TABELLE!E27/$H$2 -> 0.4 | F38: =TABELLE!F27/$H$2 -> 0.13333333 | G38: =TABELLE!G27/$H$2 -> 0.066666667 | H38: =15 -> 15
B39: MAI | C39: RARAMENTE | D39: QUALCHE VOLTA | E39: SPESSO | F39: SEMPRE | G39: NON RISPONDE
A40: domanda 19 | B40: =TABELLE!B28/$H$2 -> 0.13333333 | C40: =TABELLE!C28/$H$2 -> 0.13333333 | D40: =TABELLE!D28/$H$2 -> 0.46666667 | E40: =TABELLE!E28/$H$2 -> 0.2 | F40: =TABELLE!F28/$H$2 -> 0 | G40: =TABELLE!G28/$H$2 -> 0.066666667 | H40: =15 -> 15
...
